BEGIN:VCALENDAR
VERSION:2.0
PRODID:-//ChamberMaster//Event Calendar 2.0//EN
METHOD:PUBLISH
X-PUBLISHED-TTL:P3D
REFRESH-INTERVAL:P3D
CALSCALE:GREGORIAN
BEGIN:VEVENT
DTSTART;VALUE=DATE:20110405
DTEND;VALUE=DATE:20110429
TRANSP:TRANSPARENT
X-MICROSOFT-CDO-ALLDAYEVENT:TRUE
SUMMARY:Voice and Piano
DESCRIPTION:Classes available from beginner to advanced.\n\nClassical training provided.\n\nLearn music theory and technique.
X-ALT-DESC;FMTTYPE=text/html:Classes available from beginner to advanced.\n<br>Classical training provided.\n<br>Learn music theory and technique.
LOCATION:Shelby County Arts Council- Columbiana 104 Mildred Street\, Columbiana\, AL 35051
UID:e.145.3301
SEQUENCE:3
DTSTAMP:20260426T034256Z
URL:https://business.shelbychamber.org/events/details/voice-and-piano-04-05-2011-3301
END:VEVENT

END:VCALENDAR
