BEGIN:VCALENDAR
VERSION:2.0
PRODID:-//ChamberMaster//Event Calendar 2.0//EN
METHOD:PUBLISH
X-PUBLISHED-TTL:P3D
REFRESH-INTERVAL:P3D
CALSCALE:GREGORIAN
BEGIN:VEVENT
DTSTART:20111118T160000Z
DTEND:20111224T010000Z
X-MICROSOFT-CDO-ALLDAYEVENT:FALSE
SUMMARY:Volunteers Needed for Salvation Army Kettles This Christmas Season
DESCRIPTION:The Salvation Army of Shelby & Chilton County\n\n \n\nVolunteers Needed for Salvation Army Kettles This Christmas Season\n\n\n\nClick here for a printable PDF form to complete and fax back to The Salvation Army to participate.\n\n \n\nThe Salvation Army is asking local businesses to help them this Christmas Season.\n\n\n\nThey are in need of Volunteers to Stand at our Kettles. To help raise Donations for those in need in our Community this can be done at various locations in Shelby & Chilton County.\n\n\n\nYour company can volunteer individually\, in a group half day\, full days\, weekdays\, or weekends.\n\n\n\nThank you for your time and consideration of helping The Salvation Army Help Others. Please feel free to contact Sergeant King through email or through his cell phone.\n\n\n\nKettles start November 18th and go through December 23rd -- no Sundays\, Monday through Saturday 10am to 7pm.\n\n\n\nSergeant Major Mark I L King\n\n\n\nVolunteers for Salvation Army Christmas Season.\n\n205-356-8451 cell\n\n205-663-9190 fax\n\nEmail: revmarkking@yahoo.com  \n\nAlabaster Salvation Army
X-ALT-DESC;FMTTYPE=text/html:<strong>The Salvation Army of Shelby &amp\; Chilton County<br />\n&nbsp\;<br />\nVolunteers Needed for Salvation Army Kettles This Christmas Season</strong><br />\n<br />\n<a href="http://cloud.chambermaster.com/userfiles/UserFiles/chambers/145/File/Community Events/SalvationArmy2011.pdf">Click here for a printable PDF form to complete and fax back to The Salvation Army to participate.</a><br />\n&nbsp\;<br />\nThe Salvation Army is asking local businesses to help them this Christmas Season.<br />\n<br />\nThey are in need of Volunteers to Stand at our Kettles. To help raise Donations for those in need in our Community this can be done at various locations in Shelby &amp\; Chilton County.<br />\n<br />\nYour company can volunteer individually\, in a group half day\, full days\, weekdays\, or weekends.<br />\n<br />\nThank you for your time and consideration of helping The Salvation Army Help Others. Please feel free to contact Sergeant King through email or through his cell phone.<br />\n<br />\nKettles start November 18th and go through December 23rd -- no Sundays\, Monday through Saturday 10am to 7pm.<br />\n<br />\nSergeant Major Mark I L King<br />\n<br />\nVolunteers for Salvation Army Christmas Season.<br />\n205-356-8451 cell<br />\n205-663-9190 fax<br />\nEmail: revmarkking@yahoo.com &nbsp\;<br />\nAlabaster Salvation Army
LOCATION:Shelby & Chilton County
UID:e.145.3617
SEQUENCE:3
DTSTAMP:20260425T153535Z
URL:https://business.shelbychamber.org/events/details/volunteers-needed-for-salvation-army-kettles-this-christmas-season-11-18-2011-3617
END:VEVENT

END:VCALENDAR
