BEGIN:VCALENDAR
VERSION:2.0
PRODID:-//ChamberMaster//Event Calendar 2.0//EN
METHOD:PUBLISH
X-PUBLISHED-TTL:P3D
REFRESH-INTERVAL:P3D
CALSCALE:GREGORIAN
BEGIN:VEVENT
DTSTART:20150128T133000Z
DTEND:20150128T150000Z
X-MICROSOFT-CDO-ALLDAYEVENT:FALSE
SUMMARY:Wal-Mart Neighborhood Market Ribbon Cutting Valleydale Road
DESCRIPTION:Help us welcome Wal-Mart Neighborhood Market to Shelby County! They will be having a Ribbon Cutting at 7:45AM and then opening their doors. This is going to be a great event.
X-ALT-DESC;FMTTYPE=text/html:Help us welcome Wal-Mart Neighborhood Market to Shelby County! They will be having a Ribbon Cutting at 7:45AM and then opening their doors. This is going to be a great event. &nbsp\;&nbsp\;&nbsp\;&nbsp\;&nbsp\;&nbsp\;&nbsp\;
LOCATION:They are located at 2653 Vallleydale Road\, Birmingham\, AL 35244
UID:e.145.6601
SEQUENCE:3
DTSTAMP:20260423T050802Z
URL:https://business.shelbychamber.org/events/details/wal-mart-neighborhood-market-ribbon-cutting-valleydale-road-01-28-2015-6601
END:VEVENT

END:VCALENDAR
