BEGIN:VCALENDAR
VERSION:2.0
PRODID:-//ChamberMaster//Event Calendar 2.0//EN
METHOD:PUBLISH
X-PUBLISHED-TTL:P3D
REFRESH-INTERVAL:P3D
CALSCALE:GREGORIAN
BEGIN:VEVENT
DTSTART:20161015T233000Z
DTEND:20161015T050000Z
X-MICROSOFT-CDO-ALLDAYEVENT:FALSE
SUMMARY:Warehouse 31 Haunted House
DESCRIPTION:Prepare yourself for the most intense and frightening night of your life as you make your way through nearly 30\,000 square feet of twisting\, turning\, and terrifying horrors. Warehouse 31 in Pelham will turn your nightmares into reality that consists of two separate indoor haunted trails-Rigamortis and the 3D Experience.  \n\n \n\nThe Rigamortis is the traditional style haunted attraction that is located inside the old warehouse which features twists and turns through 50 scenes of terror and mayhem. The 3D experience is the largest of its kind in Alabama. Guests wear 3-D glasses and enter a world that seems to be in another dimension while weaving through the hallways. \n\n \n\nWhile the haunted guests are inside\, guests will find several attractions outside while they wait. A giant movie screen shows horror films alongside food and beverage vendors\, and people can also play carnival-themed games. Prepare to attend a costume contest Thursday\, October 27th at 7pm presented by Talk Radio 99.5 and Warehouse31 to win big prizes. \n\n \n\nWarehouse 31 owner Jason Sills says ?Our goal is to deliver an entertainment experience. We focus on attention to detail whether it?s audio\, lighting\, or smell. We do whatever we can to draw people in and play off their senses to get them to believe they are really in that scene. \n\n \n\nWarehouse 31 offers a variety of ticket choices from VIP\, Fast Pass\, and General Admission. Warehouse 31 will be opened every weekend and select nights until November 5th.  For ticket information and more details please visit www.warehouse31.com \n\n \n\nWarehouse 31 Haunted House \n\n3050 Lee Street     \n\nPelham\, Alabama 35124\n\nwww.warehouse31.com    \n\n205-378-9760\n\nFind on Facebook\, Twitter and Instagram for updates
X-ALT-DESC;FMTTYPE=text/html:<p>Prepare yourself for the most intense and frightening night of your life as you make your way through nearly 30\,000 square feet of twisting\, turning\, and terrifying horrors. Warehouse 31 in Pelham will turn your nightmares into reality that consists of two separate indoor haunted trails-Rigamortis and the 3D Experience. &nbsp\;</p>\n\n<p>&nbsp\;</p>\n\n<p>The Rigamortis is the traditional style haunted attraction that is located inside the old warehouse which features twists and turns through 50 scenes of terror and mayhem. The 3D experience is the largest of its kind in Alabama. Guests wear 3-D glasses and enter a world that seems to be in another dimension while weaving through the hallways.&nbsp\;</p>\n\n<p>&nbsp\;</p>\n\n<p>While the haunted guests are inside\, guests will find several attractions outside while they wait. A giant movie screen shows horror films alongside food and beverage vendors\, and people can also play carnival-themed games. Prepare to attend a costume contest Thursday\, October 27th at 7pm presented by Talk Radio 99.5 and Warehouse31 to win big prizes.&nbsp\;</p>\n\n<p>&nbsp\;</p>\n\n<p>Warehouse 31 owner Jason Sills says ?Our goal is to deliver an entertainment experience. We focus on attention to detail whether it?s audio\, lighting\, or smell. We do whatever we can to draw people in and play off their senses to get them to believe they are really in that scene.&nbsp\;</p>\n\n<p>&nbsp\;</p>\n\n<p>Warehouse 31 offers a variety of ticket choices from VIP\, Fast Pass\, and General Admission. Warehouse 31 will be opened every weekend and select nights until November 5th.&nbsp\; For ticket information and more details please visit <a href="http://www.warehouse31.com">www.warehouse31.com</a>&nbsp\;</p>\n\n<p>&nbsp\;</p>\n\n<p><strong>Warehouse 31 Haunted House&nbsp\;</strong></p>\n\n<p><strong>3050 Lee Street&nbsp\;&nbsp\;&nbsp\; &nbsp\;</strong></p>\n\n<p><strong>Pelham\, Alabama 35124</strong></p>\n\n<p><a href="http://www.warehouse31.com"><strong>www.warehouse31.com</strong></a><strong>&nbsp\;&nbsp\; &nbsp\;</strong></p>\n\n<p><strong>205-378-9760</strong></p>\n\n<p><strong>Find on Facebook\, Twitter and Instagram for updates&nbsp\;</strong></p>\n\n<p>&nbsp\;</p>\n
LOCATION:Warehouse 31 Haunted House 3050 Lee Street Pelham\, AL 35124 www.warehouse31.com 205-378-9760
UID:e.145.9772
SEQUENCE:3
DTSTAMP:20260421T164758Z
URL:https://business.shelbychamber.org/events/details/warehouse-31-haunted-house-10-15-2016-9772
END:VEVENT

END:VCALENDAR
