BEGIN:VCALENDAR
VERSION:2.0
PRODID:-//ChamberMaster//Event Calendar 2.0//EN
METHOD:PUBLISH
X-PUBLISHED-TTL:P3D
REFRESH-INTERVAL:P3D
CALSCALE:GREGORIAN
BEGIN:VEVENT
DTSTART:20161103T230000Z
DTEND:20161104T013000Z
X-MICROSOFT-CDO-ALLDAYEVENT:FALSE
SUMMARY:Warrior Tip Off & Taste of Alabaster
DESCRIPTION:The Warrior Tip Off and & Taste of Alabster will mark the start of the 2016 Thompson Basketball Season. Take a culinary trip though Alabaster and sample delectable bites from the city's finest restaurants. Meet the new Warrior coaching staff and 2016 basketball team while tasting scrumptious menu items from Jim N' Nick's BBQ\, Zaxby's\, Buck Creek and MORE!! Tickets can be purchased from any Thompson Basketball Player or at the door on the night of the event. Proceeds from this event will benefit the Thompson Basketball Program. We want to create new and innovative ways to bring the Alabaster community together.
X-ALT-DESC;FMTTYPE=text/html:The Warrior Tip Off and &amp\; Taste of Alabster will mark the start of the 2016 Thompson Basketball Season. Take a culinary trip though Alabaster and sample delectable bites from the city&#39\;s finest restaurants. Meet the new Warrior coaching staff and 2016 basketball team while tasting scrumptious menu items from Jim N&#39\; Nick&#39\;s BBQ\, Zaxby&#39\;s\, Buck Creek and MORE!! Tickets can be purchased from any Thompson Basketball Player or at the door on the night of the event. Proceeds from this event will benefit the Thompson Basketball Program. We want to create new and innovative ways to bring the Alabaster community together.
LOCATION:Thompson High School Gym
UID:e.145.9764
SEQUENCE:3
DTSTAMP:20260421T151124Z
URL:https://business.shelbychamber.org/events/details/warrior-tip-off-taste-of-alabaster-9764
END:VEVENT

END:VCALENDAR
