BEGIN:VCALENDAR
VERSION:2.0
PRODID:-//ChamberMaster//Event Calendar 2.0//EN
METHOD:PUBLISH
X-PUBLISHED-TTL:P3D
REFRESH-INTERVAL:P3D
CALSCALE:GREGORIAN
BEGIN:VEVENT
DTSTART:20120220T160000Z
DTEND:20120220T160000Z
X-MICROSOFT-CDO-ALLDAYEVENT:FALSE
SUMMARY:Washington's Birthday at American Village
DESCRIPTION:Visit the American Village on George Washington's 280th Birthday\, February 20\, 2012!\n\nThe Village will open at 10:00 a.m. with reduced admission of $5.\n\n10:30-10:45 - Welcome and overview of the day's events (in the Lucille Ryals Thompson Colonial Chapel)\n\n10:45-11:15 - Presidential Stories in the Oval Office\n\n11:15-12:00 - Join the Continental Army and Drill with the Troops on Constitution Green\n\n12:00 - Share birthday cake and sing Happy Birthday to George Washington on the steps of Washington Hall\n\nAfternoon programming includes 18th Century games\, meet Thomas Jefferson and George Washington\, Colonial Crime and Punishment\, and drilling with Washington's Continental Army.\n\nThroughout the day visitors may tour the Oval Office\, visit the Randall Museum and the Colonial Chapel\, stroll the Liberty Bell Garden and Constitution Green.
X-ALT-DESC;FMTTYPE=text/html:Visit the American Village on George Washington&rsquo\;s 280th Birthday\, February 20\, 2012!<br />\nThe Village will open at 10:00 a.m. with reduced admission of $5.<br />\n10:30-10:45&nbsp\;- Welcome and overview of the day&rsquo\;s events (in the Lucille Ryals Thompson Colonial Chapel)<br />\n10:45-11:15&nbsp\;- Presidential Stories in the Oval Office<br />\n11:15-12:00&nbsp\;- Join the Continental Army and Drill with the Troops on Constitution Green<br />\n12:00&nbsp\;- Share birthday cake and sing Happy Birthday to George Washington on the steps of Washington Hall<br />\nAfternoon programming includes 18th Century games\, meet Thomas Jefferson and George Washington\, Colonial Crime and Punishment\, and drilling with Washington&rsquo\;s Continental Army.<br />\nThroughout the day visitors may tour the Oval Office\, visit the Randall Museum and the Colonial Chapel\, stroll the Liberty Bell Garden and Constitution Green.<br />\n
LOCATION:The American Village
UID:e.145.3917
SEQUENCE:3
DTSTAMP:20260425T120159Z
URL:https://business.shelbychamber.org/events/details/washington-s-birthday-at-american-village-02-20-2012-3917
END:VEVENT

END:VCALENDAR
