BEGIN:VCALENDAR
VERSION:2.0
PRODID:-//ChamberMaster//Event Calendar 2.0//EN
METHOD:PUBLISH
X-PUBLISHED-TTL:P3D
REFRESH-INTERVAL:P3D
CALSCALE:GREGORIAN
BEGIN:VEVENT
DTSTART:20110520T140000Z
DTEND:20110521T200000Z
X-MICROSOFT-CDO-ALLDAYEVENT:FALSE
SUMMARY:Wayne Spradley Watercolor Workshops
DESCRIPTION:Learn tips and tricks from internationally acclaimed landscaped artist\, Wayne Spradley. Create a finished watercolor painting or two! Relaxed group setting\, beginners to advanced welcome! Two-day watercolor workshop with award-winning artist and instructor Wayne Spradley!
X-ALT-DESC;FMTTYPE=text/html:Learn tips and tricks from internationally acclaimed landscaped artist\, Wayne Spradley. Create a finished watercolor painting or two! Relaxed group setting\, beginners to advanced welcome! Two-day watercolor workshop with award-winning artist and instructor Wayne Spradley!
LOCATION:Shelby County Arts Council Studio - Columbiana
UID:e.145.3328
SEQUENCE:3
DTSTAMP:20260426T033816Z
URL:https://business.shelbychamber.org/events/details/wayne-spradley-watercolor-workshops-05-20-2011-3328
END:VEVENT

END:VCALENDAR
