BEGIN:VCALENDAR
VERSION:2.0
PRODID:-//ChamberMaster//Event Calendar 2.0//EN
METHOD:PUBLISH
X-PUBLISHED-TTL:P3D
REFRESH-INTERVAL:P3D
CALSCALE:GREGORIAN
BEGIN:VEVENT
DTSTART:20160716T200000Z
DTEND:20160717T020000Z
X-MICROSOFT-CDO-ALLDAYEVENT:FALSE
SUMMARY:WBC Heavyweight World Championship Fight/ Wilder vs Arreola
DESCRIPTION:Undefeated heavyweight world champion Deontay "The Bronze Bomber" Wilder (36-0\, 35 KOs) will defend his title in his home state when he battles two-time world title challenger Chris "The Nightmare" Arreola (36-4-1\, 31 KOs) in the main event of Premier Boxing Champions (PBC) on FOX and FOX Deportes Saturday\, July 16 from Legacy Arena at the BJCC in Birmingham\, Alabama with televised coverage beginning at 8 p.m. ET/5 p.m. PT.
X-ALT-DESC;FMTTYPE=text/html:Undefeated heavyweight world champion Deontay &ldquo\;The Bronze Bomber&rdquo\; Wilder (36-0\, 35 KOs) will defend his title in his home state when he battles two-time world title challenger Chris &ldquo\;The Nightmare&rdquo\; Arreola (36-4-1\, 31 KOs) in the main event of Premier Boxing Champions (PBC) on FOX and FOX Deportes Saturday\, July 16 from Legacy Arena at the BJCC in Birmingham\, Alabama with televised coverage beginning at 8 p.m. ET/5 p.m. PT.
LOCATION:Legacy Arena at the the BJCC
UID:e.145.9634
SEQUENCE:3
DTSTAMP:20260422T014226Z
URL:https://business.shelbychamber.org/events/details/wbc-heavyweight-world-championship-fight-wilder-vs-arreola-07-16-2016-9634
END:VEVENT

END:VCALENDAR
