BEGIN:VCALENDAR
VERSION:2.0
PRODID:-//ChamberMaster//Event Calendar 2.0//EN
METHOD:PUBLISH
X-PUBLISHED-TTL:P3D
REFRESH-INTERVAL:P3D
CALSCALE:GREGORIAN
BEGIN:VEVENT
DTSTART:20160124T013000Z
DTEND:20160124T033000Z
X-MICROSOFT-CDO-ALLDAYEVENT:FALSE
SUMMARY:Webb Wilder Live in Concert
DESCRIPTION:Webb Wilder takes the stage on January 23 at 7:30pm  for a solo concert.  Self-described as "Rock 'n' roll\, from Nashville. Formed from Mississippi mud\, tinged with British mod. Bruised by the blues. Baptized by Buck and Chuck. Psychiatric psycho-rootsy. Sizzling\, glistening\, uneasy listening. As it has been for three decades\, it is now and ever shall be."  He has been writing songs and performing since the '70's and has developed a loyal fan following.  Playing tunes that are mostly his own\, with covers of legends from the Kinks to Charlie Rich to Jimmy Reed
X-ALT-DESC;FMTTYPE=text/html:<a href="https://www.shelbycountyartscouncil.com/shop/965/Black+Box+Theatre+-+Webb+Wilder.htm" style="color: rgb(43\, 83\, 118)\; font-family: Arial\; font-size: medium\; line-height: 18px\;">Webb Wilder&nbsp\;</a><span style="color:rgb(0\, 0\, 0)\; font-family:arial\; font-size:medium">takes the stage on January 23 at 7:30pm &nbsp\;for a solo concert.&nbsp\; Self-described as &ldquo\;Rock &rsquo\;n&rsquo\; roll\, from Nashville. Formed from Mississippi mud\, tinged with British mod. Bruised by the blues. Baptized by Buck and Chuck. Psychiatric psycho-rootsy. Sizzling\, glistening\, uneasy listening. As it has been for three decades\, it is now and ever shall be.&rdquo\;&nbsp\; He has been writing songs and performing since the &lsquo\;70&rsquo\;s and has developed a loyal fan following.&nbsp\; Playing tunes that are mostly his own\, with covers of legends from the Kinks to Charlie Rich to Jimmy Reed</span>
LOCATION:Shelby County Arts Council\, 104 Mildred Street\, Columbiana\, AL
UID:e.145.8253
SEQUENCE:3
DTSTAMP:20260422T110723Z
URL:https://business.shelbychamber.org/events/details/webb-wilder-live-in-concert-01-23-2016-8253
END:VEVENT

END:VCALENDAR
