BEGIN:VCALENDAR
VERSION:2.0
PRODID:-//ChamberMaster//Event Calendar 2.0//EN
METHOD:PUBLISH
X-PUBLISHED-TTL:P3D
REFRESH-INTERVAL:P3D
CALSCALE:GREGORIAN
BEGIN:VEVENT
DTSTART:20160623T220000Z
DTEND:20160624T000000Z
X-MICROSOFT-CDO-ALLDAYEVENT:FALSE
SUMMARY:Wedding Hotel Tour and Wine Tasting
DESCRIPTION:Hampton Inn & Suites Eagle Point would like to invite you to a after hours social Vizzini wine tasting and touring of hotel for future wedding parties.There will be Local bakeries and Bridal shops on site along with local bridal venues to speak with.
X-ALT-DESC;FMTTYPE=text/html:Hampton Inn &amp\; Suites Eagle Point would like to invite you to a after hours social Vizzini wine tasting and touring of hotel for future wedding parties.There will be Local bakeries and Bridal shops on site along with local bridal venues to speak with.
LOCATION:Hampton Inn & Suites Eagle Point 6220 Farley Court Birmingham AL 35242
UID:e.145.9583
SEQUENCE:3
DTSTAMP:20260422T030357Z
URL:https://business.shelbychamber.org/events/details/wedding-hotel-tour-and-wine-tasting-06-23-2016-9583
END:VEVENT

END:VCALENDAR
