BEGIN:VCALENDAR
VERSION:2.0
PRODID:-//ChamberMaster//Event Calendar 2.0//EN
METHOD:PUBLISH
X-PUBLISHED-TTL:P3D
REFRESH-INTERVAL:P3D
CALSCALE:GREGORIAN
BEGIN:VEVENT
DTSTART:20140126T010000Z
DTEND:20140126T200000Z
X-MICROSOFT-CDO-ALLDAYEVENT:FALSE
SUMMARY:Welcome to Mitford
DESCRIPTION:SCAC presents this popular play based on Jan Karon's Mitford novels. Sue Ellen Gerrells and Kathryn Myrick are co-directors. The performance will be presented in the Shelby County High School auditorium with proceeds benefiting both the SCHS and the SCAC. Famous novelist and and playwright of Welcome to Mitford\, Robert Inman\, will be there for opening night!
X-ALT-DESC;FMTTYPE=text/html:SCAC presents this popular play based on Jan Karon&#39\;s Mitford novels. Sue Ellen Gerrells and Kathryn Myrick are co-directors. The performance will be presented in the Shelby County High School auditorium with proceeds benefiting both the SCHS and the SCAC. Famous novelist and and playwright of <em>Welcome to Mitford\,</em> Robert Inman\, will be there for opening night!
LOCATION:Shelby County High School Auditorium
UID:e.145.4914
SEQUENCE:3
DTSTAMP:20260423T225443Z
URL:https://business.shelbychamber.org/events/details/welcome-to-mitford-01-25-2014-4914
END:VEVENT

END:VCALENDAR
