BEGIN:VCALENDAR
VERSION:2.0
PRODID:-//ChamberMaster//Event Calendar 2.0//EN
METHOD:PUBLISH
X-PUBLISHED-TTL:P3D
REFRESH-INTERVAL:P3D
CALSCALE:GREGORIAN
BEGIN:VEVENT
DTSTART:20140405T173000Z
DTEND:20140405T213000Z
X-MICROSOFT-CDO-ALLDAYEVENT:FALSE
SUMMARY:What's That Button Do?: Getting The Most Out Of Your Digital Camera
DESCRIPTION:Whether one is trying to take pictures to display on a web site\, frame and hang as fine art\, or just capture family or vacation memories\; today's digital cameras - Digital Compact or Digital SLR - are packed with capabilities and features that greatly enhance and extend the users' ability to capture and create images that fill a wide range of needs The class will consist of one 3 hour session covering: Camera types and there advantages and disadvantages Camera standard operational modes Special features and effects. This class is designed for those who have just gotten their first digital camera\, or for those who have had one for a while but never really felt comfortable shooting in any mode other than full auto - point and shoot. Students should bring their cameras and camera manuals. The class is free\, but seating is very limited so call the library at 620-6418 as soon as possible to reserve a space.
X-ALT-DESC;FMTTYPE=text/html:Whether one is trying to take pictures to display on a web site\, frame and hang as fine art\, or just capture family or vacation memories\; today&#39\;s digital cameras - Digital Compact or Digital SLR - are packed with capabilities and features that greatly enhance and extend the users&#39\; ability to capture and create images that fill a wide range of needs The class will consist of one 3 hour session covering: Camera types and there advantages and disadvantages Camera standard operational modes Special features and effects. This class is designed for those who have just gotten their first digital camera\, or for those who have had one for a while but never really felt comfortable shooting in any mode other than full auto - point and shoot. Students should bring their cameras and camera manuals. The class is free\, but seating is very limited so call the library at 620-6418 as soon as possible to reserve a space.
LOCATION:Pelham Public Library 3160 Pelham Parkway Pelham\, Alabama 35124
UID:e.145.5104
SEQUENCE:3
DTSTAMP:20260423T183905Z
URL:https://business.shelbychamber.org/events/details/what-s-that-button-do-getting-the-most-out-of-your-digital-camera-04-05-2014-5104
END:VEVENT

END:VCALENDAR
