BEGIN:VCALENDAR
VERSION:2.0
PRODID:-//ChamberMaster//Event Calendar 2.0//EN
METHOD:PUBLISH
X-PUBLISHED-TTL:P3D
REFRESH-INTERVAL:P3D
CALSCALE:GREGORIAN
BEGIN:VEVENT
DTSTART:20161019T164500Z
DTEND:20161019T180000Z
X-MICROSOFT-CDO-ALLDAYEVENT:FALSE
SUMMARY:Why Wellness in the Workplace Matters
DESCRIPTION:We will explore Alabama's Health Rankings and how employers can create a culture of wellness to improve productivity\, health and well-being. Speakers include Chef Joseph Mitchell\, Program Director Culinary & Hospitality Institute JSCC Beth Douglas\, DPT\, OCS. MTS Director/ Therapy South Liberty Park Kent Howard\, Certified Worksite Wellness Specialist /Allstate Benefits Please join us! Lunch is included.
X-ALT-DESC;FMTTYPE=text/html:We will explore Alabama&rsquo\;s Health Rankings and how employers can create a culture of wellness to improve productivity\, health and well-being. Speakers include Chef Joseph Mitchell\, Program Director Culinary &amp\; Hospitality Institute JSCC Beth Douglas\, DPT\, OCS. MTS Director/ Therapy South Liberty Park Kent Howard\, Certified Worksite Wellness Specialist /Allstate Benefits Please join us! Lunch is included.
LOCATION:Jefferson State Community College Bistro ProVare Restaurant
UID:e.145.9778
SEQUENCE:3
DTSTAMP:20260421T164438Z
URL:https://business.shelbychamber.org/events/details/why-wellness-in-the-workplace-matters-9778
END:VEVENT

END:VCALENDAR
