BEGIN:VCALENDAR
VERSION:2.0
PRODID:-//ChamberMaster//Event Calendar 2.0//EN
METHOD:PUBLISH
X-PUBLISHED-TTL:P3D
REFRESH-INTERVAL:P3D
CALSCALE:GREGORIAN
BEGIN:VEVENT
DTSTART:20140105T200000Z
DTEND:20140105T220000Z
X-MICROSOFT-CDO-ALLDAYEVENT:FALSE
SUMMARY:Wiley and the Hairy Man
DESCRIPTION:A South City Theatre Production: A magical drama set deep within the mysterious Tombigbee Swamp\, Wiley and the Hairy Man centers around a young fatherless boy\, his conjure-woman mother\, his faithful dog and the Hairy Man who haunts Wiley's days and dreams. Fun for the whole family.
X-ALT-DESC;FMTTYPE=text/html:A South City Theatre Production: A magical drama set deep within the mysterious Tombigbee Swamp\, Wiley and the Hairy Man centers around a young fatherless boy\, his conjure-woman mother\, his faithful dog and the Hairy Man who haunts Wiley&#39\;s days and dreams. Fun for the whole family. 
LOCATION:Shelby County Arts Council 104 Mildred St. Columbiana\, AL 35051
UID:e.145.4913
SEQUENCE:3
DTSTAMP:20260423T225521Z
URL:https://business.shelbychamber.org/events/details/wiley-and-the-hairy-man-01-05-2014-4913
END:VEVENT

END:VCALENDAR
