BEGIN:VCALENDAR
VERSION:2.0
PRODID:-//ChamberMaster//Event Calendar 2.0//EN
METHOD:PUBLISH
X-PUBLISHED-TTL:P3D
REFRESH-INTERVAL:P3D
CALSCALE:GREGORIAN
BEGIN:VEVENT
DTSTART:20151018T003000Z
DTEND:20151018T020000Z
X-MICROSOFT-CDO-ALLDAYEVENT:FALSE
SUMMARY:Will Kimbrough: Nashville Singer/Songwriter
DESCRIPTION:Will Kimbrough is a singer\, songwriter\, award-winning guitarist\, multi-instrumentalist\, producer\, performer and bandleader with a voracious appetite for every aspect of music.   With songs recorded by Jimmy Buffett\, Little Feat\, Jack Ingram\, Todd Snider and others\, Kimbrough's multidisciplinary approach has led to many desirable collaborations in the studio and on-stage with well-known artists\, including Rosanne Cash\, Guy Clark\, Rodney Crowell\, Steve Earle\, Gomez\, and Emmylou Harris. Hear this talented musician in an intimate setting\, where you can sit back and take in the music.\n\nPerformance Sponsors:  Living Water Services and the Alabama State Council on the Arts
X-ALT-DESC;FMTTYPE=text/html:<p>Will Kimbrough is a singer\, songwriter\, award-winning guitarist\, multi-instrumentalist\, producer\, performer and bandleader with a voracious appetite for every aspect of music.&nbsp\;&nbsp\; With songs recorded by Jimmy Buffett\, Little Feat\, Jack Ingram\, Todd Snider and others\, Kimbrough&rsquo\;s multidisciplinary approach has led to many desirable collaborations in the studio and on-stage with well-known artists\, including Rosanne Cash\, Guy Clark\, Rodney Crowell\, Steve Earle\, Gomez\, and Emmylou Harris. Hear this talented musician in an intimate setting\, where you can sit back and take in the music.</p>\n\n<p>Performance Sponsors:&nbsp\; <strong>Living Water Services</strong> and the Alabama State Council on the Arts</p>\n
LOCATION:Shelby County Arts Council Black Box Theatre 104 Mildred Street Columbiana\, AL 35051
UID:e.145.7923
SEQUENCE:3
DTSTAMP:20260422T154648Z
URL:https://business.shelbychamber.org/events/details/will-kimbrough-nashville-singer-songwriter-10-17-2015-7923
END:VEVENT

END:VCALENDAR
