BEGIN:VCALENDAR
VERSION:2.0
PRODID:-//ChamberMaster//Event Calendar 2.0//EN
METHOD:PUBLISH
X-PUBLISHED-TTL:P3D
REFRESH-INTERVAL:P3D
CALSCALE:GREGORIAN
BEGIN:VEVENT
DTSTART:20120213T233000Z
DTEND:20120214T020000Z
X-MICROSOFT-CDO-ALLDAYEVENT:FALSE
SUMMARY:Willow House Informational Meeting (formerly Southern Living at Home)
DESCRIPTION:Curious about Willow House as a Business? We welcome anyone interested\, to our Lights\, Camera\, Action Training meeting.\n\n	(Willow House was formerly Southern Living at Home)\n\n\nGuests are FREE! Each guest will receive a FREE product!\n\n\n\nIt's A New Year! A New Beginning! A New Me!\n\n\n\n  Hear the latest news from the Home Office and RJ McBride\, Regional Sales Director!\n\n  Learn about the new company incentives\, including an incredible trip to Paradisus in Playa del Carmen!\n\n  Recognition!\n\n  Have the chance to win spring product! (Raffle tickets available for purchase - we will be raffling lots of spring product)\n\n  Receive specialized Training:\n\n\n\n"You Had Me At Hello"- Front Door Makeover\n\n"I Want What She Is Having" -Sara Blaine Jewelry Demo\n\n"May The Force Be With You"- Where do I find new business?\n\n"Show Me The Money"- The Why\, The Who\, & The How to Sponsoring\n\n"Elementary My Dear Watson" -Parties in a SNAP\n\n Please contact me directly so you can go as my guest! Karen Allison 205-902-8607
X-ALT-DESC;FMTTYPE=text/html:<p style="text-align: center">\n	<strong>Curious about Willow House as a Business? We welcome anyone interested\, to our Lights\, Camera\, Action Training meeting.<br />\n	(Willow House was formerly Southern Living at Home)</strong></p>\n<br />\nGuests are FREE! Each guest will receive a FREE product!<br />\n<br />\nIt&rsquo\;s A New Year! A New Beginning! A New Me!<br />\n<br />\n&bull\; Hear the latest news from the Home Office and RJ McBride\, Regional Sales Director!<br />\n&bull\; Learn about the new company incentives\, including an incredible trip to Paradisus in Playa del Carmen!<br />\n&bull\; Recognition!<br />\n&bull\; Have the chance to win spring product! (Raffle tickets available for purchase - we will be raffling lots of spring product)<br />\n&bull\; Receive specialized Training:<br />\n<br />\n&ldquo\;You Had Me At Hello&rdquo\;- Front Door Makeover<br />\n&ldquo\;I Want What She Is Having&rdquo\; -Sara Blaine Jewelry Demo<br />\n&ldquo\;May The Force Be With You&rdquo\;- Where do I find new business?<br />\n&ldquo\;Show Me The Money&rdquo\;- The Why\, The Who\, &amp\; The How to Sponsoring<br />\n&ldquo\;Elementary My Dear Watson&rdquo\; -Parties in a SNAP<br />\n&nbsp\;Please contact me directly so you can go as my guest! Karen Allison 205-902-8607
LOCATION:Homewood Public Library Auditorium
UID:e.145.3915
SEQUENCE:3
DTSTAMP:20260425T120346Z
URL:https://business.shelbychamber.org/events/details/willow-house-informational-meeting-formerly-southern-living-at-home-02-13-2012-3915
END:VEVENT

END:VCALENDAR
