BEGIN:VCALENDAR
VERSION:2.0
PRODID:-//ChamberMaster//Event Calendar 2.0//EN
METHOD:PUBLISH
X-PUBLISHED-TTL:P3D
REFRESH-INTERVAL:P3D
CALSCALE:GREGORIAN
BEGIN:VEVENT
DTSTART:20130627T230000Z
DTEND:20130628T010000Z
X-MICROSOFT-CDO-ALLDAYEVENT:FALSE
SUMMARY:Wine and Cheese Open House
DESCRIPTION:This is an invitation to see a Gorgeous Home in Meadow Lake Farms\, a gated community in Calera.\n\n \n\nWe will have a local winery there to serve. Hope to see you there.
X-ALT-DESC;FMTTYPE=text/html:This is an invitation to see a Gorgeous Home in Meadow Lake Farms\, a gated community in Calera.<br />\n&nbsp\;<br />\nWe will have a local winery there to serve. Hope to see you there.&nbsp\;
LOCATION:170 Meadow Lake Farms
UID:e.145.4653
SEQUENCE:3
DTSTAMP:20260424T102501Z
URL:https://business.shelbychamber.org/events/details/wine-and-cheese-open-house-06-27-2013-4653
END:VEVENT

END:VCALENDAR
