BEGIN:VCALENDAR
VERSION:2.0
PRODID:-//ChamberMaster//Event Calendar 2.0//EN
METHOD:PUBLISH
X-PUBLISHED-TTL:P3D
REFRESH-INTERVAL:P3D
CALSCALE:GREGORIAN
BEGIN:VEVENT
DTSTART:20110825T233000Z
DTEND:20110826T033000Z
X-MICROSOFT-CDO-ALLDAYEVENT:FALSE
SUMMARY:Wine'd Down Summer With Easter Seals
DESCRIPTION:Enjoy a night of laughs and music with Three on A String\n\n	Bid on amazing Live and Silent Auction items\n\n	Indulge yourself with delicious gourmet hors d'oeuvres \n\n	 \n\n	Don't miss out on this wonderful event and your OPPORTUNITY to make a difference in lives of children and adults living with disabilities.\n\n	 \n\n	Click here for a printable flier!\n\n	\n\n	Individual tickets $60 Reserved Tables $600\n\n	To reserve your tickets\, call 314-2187
X-ALT-DESC;FMTTYPE=text/html:&nbsp\;\n<p class="MsoNormal" style="margin: 0in 0in 0pt\;">\n	<span style="font-family: 'lucida calligraphy'\; color: rgb(102\, 51\, 0)\; font-size: 12pt\;">Enjoy a night of laughs and music with </span><b><span style="font-family: 'lucida calligraphy'\; color: rgb(255\, 80\, 80)\; font-size: 12pt\;">Three on A String</span></b></p>\n<p class="MsoNormal" style="margin: 0in 0in 0pt\;">\n	<span style="font-family: 'lucida calligraphy'\; color: rgb(102\, 51\, 0)\; font-size: 12pt\;">Bid on amazing </span><b><span style="font-family: 'lucida calligraphy'\; color: rgb(255\, 80\, 80)\; font-size: 12pt\;">Live and Silent Auction items</span></b></p>\n<p class="MsoNormal" style="margin: 0in 0in 0pt\;">\n	<span style="font-family: 'lucida calligraphy'\; color: rgb(102\, 51\, 0)\; font-size: 12pt\;">Indulge yourself with </span><b><span style="font-family: 'lucida calligraphy'\; color: rgb(255\, 80\, 80)\; font-size: 12pt\;">delicious gourmet hors d&rsquo\;oeuvres </span></b><br />\n	&nbsp\;</p>\n<p class="MsoNormal" style="margin: 0in 0in 0pt\;">\n	<span lang="en-US" style="font-family: 'lucida calligraphy'\; color: rgb(102\, 51\, 0)\; font-size: 14pt\; font-weight: bold\;"><b><span style="font-family: 'lucida calligraphy'\; color: rgb(102\, 51\, 0)\; font-size: 14pt\;">Don&rsquo\;t miss out on this wonderful event and your OPPORTUNITY to make a difference in lives of children and adults living with disabilities.</span></b></span></p>\n<p class="MsoNormal" style="margin: 0in 0in 0pt\;">\n	<span lang="en-US" style="font-family: 'lucida calligraphy'\; color: rgb(102\, 51\, 0)\; font-size: 14pt\; font-weight: bold\;"><span style=""><b><font size="3"><font color="#000000"><font face="Calibri">&nbsp\;</font></font></font></b></span></span></p>\n<p class="MsoNormal" style="margin: 0in 0in 0pt\;">\n	<span lang="en-US" style="font-family: 'lucida calligraphy'\; color: rgb(102\, 51\, 0)\; font-size: 14pt\; font-weight: bold\;"><span style=""><b><font color="#000000" face="Calibri" size="3"><a href="http://cloud.chambermaster.com/userfiles/UserFiles/chambers/145/File/Member%20Promotions/Summer_eventinfo.jpg">Click here for a printable flier!</a><br />\n	<br />\n	Individual tickets&mdash\;</font></b></span><b><span style=""><font size="3"><font color="#000000"><font face="Calibri">$60 Reserved Tables&mdash\;$600</font></font></font></span></b></span></p>\n<p class="MsoNormal" style="margin: 0in 0in 0pt\;">\n	<span style=""><b><span style="font-family: 'lucida calligraphy'\; color: rgb(255\, 80\, 80)\; font-size: 14pt\;">To reserve your tickets\, call </span><span style=""><font color="#000000" face="Calibri" size="3">314-2187 </font></span></b></span></p>\n<p class="MsoNormal" style="">\n	<span lang="en-US" style="">&nbsp\;</span></p>\n
LOCATION:B&A Warehouse 1531 1st Avenue South Birmingham\, AL
UID:e.145.3489
SEQUENCE:3
DTSTAMP:20260425T213724Z
URL:https://business.shelbychamber.org/events/details/wine-d-down-summer-with-easter-seals-08-25-2011-3489
END:VEVENT

END:VCALENDAR
