BEGIN:VCALENDAR
VERSION:2.0
PRODID:-//ChamberMaster//Event Calendar 2.0//EN
METHOD:PUBLISH
X-PUBLISHED-TTL:P3D
REFRESH-INTERVAL:P3D
CALSCALE:GREGORIAN
BEGIN:VEVENT
DTSTART:20150204T000000Z
DTEND:20150204T010000Z
X-MICROSOFT-CDO-ALLDAYEVENT:FALSE
SUMMARY:Winter Wellness with Essential Oils
DESCRIPTION:Join us for the Special Event!\nWe are excited to share with you how to prepare your immune system\, your home\, and your family for the winter months using Essential Oils. The weather is getting colder and germs are on the rise. Come learn how to support your immune system\, your respiratory system\, and lower the toxic load in your body and home. Make sure your home is prepared for anything that may come this winter!
X-ALT-DESC;FMTTYPE=text/html:<h1>Join us for the Special Event!</h1>\nWe are excited to share with you how to prepare your immune system\, your home\, and your family for the winter months using Essential Oils. The weather is getting colder and germs are on the rise. Come learn how to support your immune system\, your respiratory system\, and lower the toxic load in your body and home. Make sure your home is prepared for anything that may come this winter!
LOCATION:North Shelby Library Meeting Room
UID:e.145.7188
SEQUENCE:3
DTSTAMP:20260423T034452Z
URL:https://business.shelbychamber.org/events/details/winter-wellness-with-essential-oils-02-03-2015-7188
END:VEVENT

END:VCALENDAR
