BEGIN:VCALENDAR
VERSION:2.0
PRODID:-//ChamberMaster//Event Calendar 2.0//EN
METHOD:PUBLISH
X-PUBLISHED-TTL:P3D
REFRESH-INTERVAL:P3D
CALSCALE:GREGORIAN
BEGIN:VEVENT
DTSTART:20170202T170000Z
DTEND:20170202T183000Z
X-MICROSOFT-CDO-ALLDAYEVENT:FALSE
SUMMARY:Wisdom & Cents Ladies' Event: What to Expect in 2017 - An Economic and Stock Market Update for the New Year
DESCRIPTION:I'd like to invite you to my free luncheon where we will discuss what you may expect from the stock market and economy in 2017. This is a great opportunity for you to bring a friend and get educated on a topic that can help you take charge of your investments and financial future.\n \n\nThe event will begin at 11:00 AM with lunch and an opportunity to mingle with women just like you. My presentation will begin at 11:30 AM.\n\n\n\nIf you want to know more about investing and what to expect in the new year\, this event is for you. And feel free to invite a friend. Space is limited and registration will fill up fast\, so register soon! WATCH THIS VIDEO to learn more.\n\n\n\nClick here to register.
X-ALT-DESC;FMTTYPE=text/html:<div>I&#39\;d like to invite you to my free luncheon where we will discuss what you may expect from the stock market and economy in 2017. This is a great opportunity for you to bring a friend and get educated on a topic that can help you take charge of your investments and financial future.</div>\n&nbsp\;\n\n<div>The event will begin at 11:00 AM with lunch and an opportunity to mingle with women just like you. My presentation will begin at 11:30 AM.<br />\n<br />\nIf you want to know more about investing and what to expect in the new year\, this event is for you. And feel free to invite a friend. Space is limited and registration will fill up fast\, so register soon! <a href="https://youtu.be/-5PKsUg3Djw">WATCH THIS VIDEO</a> to learn more.<br />\n<br />\nClick <a href="http://events.r20.constantcontact.com/register/event?oeidk=a07edo52dwe75aad333&amp\;llr=vkww5cdab">here</a> to register.</div>\n
LOCATION:Ballantrae Golf Club Conference Room (2nd floor) 1300 Ballantrae Club Drive Pelham\, AL 35124
UID:e.145.10364
SEQUENCE:3
DTSTAMP:20260421T104435Z
URL:https://business.shelbychamber.org/events/details/wisdom-cents-ladies-event-what-to-expect-in-2017-an-economic-and-stock-market-update-for-the-new-year-10364
END:VEVENT

END:VCALENDAR
