BEGIN:VCALENDAR
VERSION:2.0
PRODID:-//ChamberMaster//Event Calendar 2.0//EN
METHOD:PUBLISH
X-PUBLISHED-TTL:P3D
REFRESH-INTERVAL:P3D
CALSCALE:GREGORIAN
BEGIN:VEVENT
DTSTART:20140127T173000Z
DTEND:20140127T174500Z
X-MICROSOFT-CDO-ALLDAYEVENT:FALSE
SUMMARY:Women Wearning Chique Wigs will air on Channel 13 - Daytime AL!
DESCRIPTION:Women wearing "CHIQUE WIGS'"  will air on Channel 13 - DAYTIME AL on Monday\, January 27\, 2014 @ 11:30 AM!
X-ALT-DESC;FMTTYPE=text/html:Women wearing &quot\;CHIQUE WIGS&#39\;&quot\;&nbsp\; will air on Channel 13 - DAYTIME AL on Monday\, January 27\, 2014 @ 11:30 AM!
LOCATION:
UID:e.145.5036
SEQUENCE:3
DTSTAMP:20260423T230620Z
URL:https://business.shelbychamber.org/events/details/women-wearning-chique-wigs-will-air-on-channel-13-daytime-al-01-27-2014-5036
END:VEVENT

END:VCALENDAR
