BEGIN:VCALENDAR
VERSION:2.0
PRODID:-//ChamberMaster//Event Calendar 2.0//EN
METHOD:PUBLISH
X-PUBLISHED-TTL:P3D
REFRESH-INTERVAL:P3D
CALSCALE:GREGORIAN
BEGIN:VEVENT
DTSTART:20140322T150000Z
DTEND:20140322T200000Z
X-MICROSOFT-CDO-ALLDAYEVENT:FALSE
SUMMARY:Wonders of Water
DESCRIPTION:Join the Birmingham Zoo in recognizing National Wildlife Week by celebrating wildlife and water. Head out to Grandma's Back Porch from 10am-3pm for a day full of fun crafts\, children's games\, animal facts and information on various ways you can help save the planet. Don't miss the chance to learn all about the importance of conservation\, create your own water bottle bird feeder and so much more. Visitors of all ages are welcome to take part in this day full of wonder!
X-ALT-DESC;FMTTYPE=text/html:Join the Birmingham Zoo in recognizing National Wildlife Week by celebrating wildlife and water. Head out to Grandma&#39\;s Back Porch from 10am-3pm for a day full of fun crafts\, children&#39\;s games\, animal facts and information on various ways you can help save the planet. Don&#39\;t miss the chance to learn all about the importance of conservation\, create your own water bottle bird feeder and so much more. Visitors of all ages are welcome to take part in this day full of wonder!
LOCATION:The Birmingham Zoo
UID:e.145.5076
SEQUENCE:3
DTSTAMP:20260423T213422Z
URL:https://business.shelbychamber.org/events/details/wonders-of-water-03-22-2014-5076
END:VEVENT

END:VCALENDAR
