BEGIN:VCALENDAR
VERSION:2.0
PRODID:-//ChamberMaster//Event Calendar 2.0//EN
METHOD:PUBLISH
X-PUBLISHED-TTL:P3D
REFRESH-INTERVAL:P3D
CALSCALE:GREGORIAN
BEGIN:VEVENT
DTSTART:20151110T220000Z
DTEND:20151110T230000Z
X-MICROSOFT-CDO-ALLDAYEVENT:FALSE
SUMMARY:Woody's Unique Junque' Ribbon Cutting
DESCRIPTION:Please join us for a ribbon cutting celebrating Woody's Unique Junque'!
X-ALT-DESC;FMTTYPE=text/html:Please join us for a ribbon cutting celebrating Woody&#39\;s Unique Junque&#39\;!&nbsp\;
LOCATION:Woody's Unique Junque' 1007 Commerce Blvd. Pelham\, AL 35124
UID:e.145.7959
SEQUENCE:3
DTSTAMP:20260422T154421Z
URL:https://business.shelbychamber.org/events/details/woody-s-unique-junque-ribbon-cutting-11-10-2015-7959
END:VEVENT

END:VCALENDAR
