BEGIN:VCALENDAR
VERSION:2.0
PRODID:-//ChamberMaster//Event Calendar 2.0//EN
METHOD:PUBLISH
X-PUBLISHED-TTL:P3D
REFRESH-INTERVAL:P3D
CALSCALE:GREGORIAN
BEGIN:VEVENT
DTSTART:20150613T200000Z
DTEND:20150614T040000Z
X-MICROSOFT-CDO-ALLDAYEVENT:FALSE
SUMMARY:World Heavyweight Championship Title Fight: Deontay Wilder vs. Eric Molina
DESCRIPTION:On June 13th history will be made in Birmingham\, Alabama. Deontay Wilder\, WBC Heavyweight Champion\, will fight to defend his WBC title in a 12 round bout where he will face the hard hitting Eric Molina. Wilder\, originally from Tuscaloosa\, AL\, is currently undefeated at 33-0 as a professional and is considered one of the hardest punchers in the heavyweight division with 32 knockouts. ORDER YOUR TICKETS TODAY! Fight Day Info: Estimated 8-12 total fights. 3:00pm - Gates Open 3:30pm - First Fight 6:00pm - TV Bouts Begin 8:00pm - Showtime Production begins For more up-to-date information log onto alabamatitlefight.com
X-ALT-DESC;FMTTYPE=text/html:On June 13th history will be made in Birmingham\, Alabama. Deontay Wilder\, WBC Heavyweight Champion\, will fight to defend his WBC title in a 12 round bout where he will face the hard hitting Eric Molina. Wilder\, originally from Tuscaloosa\, AL\, is currently undefeated at 33-0 as a professional and is considered one of the hardest punchers in the heavyweight division with 32 knockouts. ORDER YOUR TICKETS TODAY! Fight Day Info: Estimated 8-12 total fights. 3:00pm - Gates Open 3:30pm - First Fight 6:00pm - TV Bouts Begin 8:00pm - Showtime Production begins For more up-to-date information log onto alabamatitlefight.com
LOCATION:UAB Bartow Arena
UID:e.145.7673
SEQUENCE:3
DTSTAMP:20260422T213028Z
URL:https://business.shelbychamber.org/events/details/world-heavyweight-championship-title-fight-deontay-wilder-vs-eric-molina-06-13-2015-7673
END:VEVENT

END:VCALENDAR
