BEGIN:VCALENDAR
VERSION:2.0
PRODID:-//ChamberMaster//Event Calendar 2.0//EN
METHOD:PUBLISH
X-PUBLISHED-TTL:P3D
REFRESH-INTERVAL:P3D
CALSCALE:GREGORIAN
BEGIN:VEVENT
DTSTART:20160828T000000Z
DTEND:20160828T030000Z
X-MICROSOFT-CDO-ALLDAYEVENT:FALSE
SUMMARY:World Premier Event: Blood Type
DESCRIPTION:Blood Type is a sci-fi thriller set in futuristic Alabama. The story begins with most the humans of the world being picked off by a deadly virus. Unknown to the human race\, the vampires that have existed peacefully beside the for hundreds of years have also been affected by the virus\, creating vicious monsters that have started capturing the humans. Those left alive do their best to survive in the post-apocalyptic world all while being preyed upon by these vicious creatures they know little about. Eventually the surviving humans and vampires must band together to stop these deadly creatures before they kill everyone. Shot on location in Alabama and with a local cast\, this thriller will be sure to keep you on the edge of your seat until the very end.
X-ALT-DESC;FMTTYPE=text/html:Blood Type is a sci-fi thriller set in futuristic Alabama. The story begins with most the humans of the world being picked off by a deadly virus. Unknown to the human race\, the vampires that have existed peacefully beside the for hundreds of years have also been affected by the virus\, creating vicious monsters that have started capturing the humans. Those left alive do their best to survive in the post-apocalyptic world all while being preyed upon by these vicious creatures they know little about. Eventually the surviving humans and vampires must band together to stop these deadly creatures before they kill everyone. Shot on location in Alabama and with a local cast\, this thriller will be sure to keep you on the edge of your seat until the very end.
LOCATION:Shelby County Arts Council
UID:e.145.9650
SEQUENCE:3
DTSTAMP:20260421T234454Z
URL:https://business.shelbychamber.org/events/details/world-premier-event-blood-type-08-27-2016-9650
END:VEVENT

END:VCALENDAR
