BEGIN:VCALENDAR
VERSION:2.0
PRODID:-//ChamberMaster//Event Calendar 2.0//EN
METHOD:PUBLISH
X-PUBLISHED-TTL:P3D
REFRESH-INTERVAL:P3D
CALSCALE:GREGORIAN
BEGIN:VEVENT
DTSTART:20151212T170000Z
DTEND:20151212T180000Z
X-MICROSOFT-CDO-ALLDAYEVENT:FALSE
SUMMARY:Wreaths Across America Ceremony to honor our fallen heroes.
DESCRIPTION:Wreaths Across America is committed to remembering the fallen\, to honoring those who are serving in uniform today and teaching younger generations about the value of their freedoms and the importance of honoring those who sacrificed so much to protect those freedoms. The Support Committee for the Alabama National Cemetery will present the short program on Dec. 12\, before the laying of the wreaths. Family members of veterans buried in the cemetery will be led into the area by a bagpiper\, to lay wreaths on their loved ones' graves. Then everyone else present (volunteers) will lay wreaths on the rest of the graves. There are almost 4000 graves now. Here's a short video clip from last year. http://wiat.com/2014/12/13/hundreds-honor-veterans-with-wreaths-across-america/
X-ALT-DESC;FMTTYPE=text/html:Wreaths Across America is committed to remembering the fallen\, to honoring those who are serving in uniform today and teaching younger generations about the value of their freedoms and the importance of honoring those who sacrificed so much to protect those freedoms. The Support Committee for the Alabama National Cemetery will present the short program on Dec. 12\, before the laying of the wreaths. Family members of veterans buried in the cemetery will be led into the area by a bagpiper\, to lay wreaths on their loved ones&#39\; graves. Then everyone else present (volunteers) will lay wreaths on the rest of the graves. There are almost 4000 graves now. Here&#39\;s a short video clip from last year. http://wiat.com/2014/12/13/hundreds-honor-veterans-with-wreaths-across-america/
LOCATION:Alabama National Cemetery\, 3133 AL-119\, Montevallo\, AL 35115
UID:e.145.8000
SEQUENCE:3
DTSTAMP:20260422T125611Z
URL:https://business.shelbychamber.org/events/details/wreaths-across-america-ceremony-to-honor-our-fallen-heroes-12-12-2015-8000
END:VEVENT

END:VCALENDAR
