BEGIN:VCALENDAR
VERSION:2.0
PRODID:-//ChamberMaster//Event Calendar 2.0//EN
METHOD:PUBLISH
X-PUBLISHED-TTL:P3D
REFRESH-INTERVAL:P3D
CALSCALE:GREGORIAN
BEGIN:VEVENT
DTSTART:20161105T150000Z
DTEND:20161105T200000Z
X-MICROSOFT-CDO-ALLDAYEVENT:FALSE
SUMMARY:Writing Workshop with author K. B. Hoyle
DESCRIPTION:Author K. B. Hoyle returns with a half-day writer's workshop. The workshop will focus on the craft of writing\, building a novel from the ground up\, including the ring composition style of outlining. Come prepared to learn something new! Bring existing projects if you have it. K.B. Hoyle is a Readers' Favorite 5-Star reviewed author and a multiple recipient of the Literary Classics Seal of Approval. She's also the winner of the Gold Book Award for YA Series (2016) for The Gateway Chronicles--her best-selling six-book Fantasy series--the Silver Book Award winner for YA Science Fiction (2015) for BREEDER\, the first book in her Dystopian Trilogy\, The Breeder Cycle\, for which she also won the Bronze Award for YA Science Fiction (2016) from Readers' Favorite International Book Awards.
X-ALT-DESC;FMTTYPE=text/html:Author K. B. Hoyle returns with a half-day writer&#39\;s workshop. The workshop will focus on the craft of writing\, building a novel from the ground up\, including the ring composition style of outlining. Come prepared to learn something new! Bring existing projects if you have it. K.B. Hoyle is a Readers&#39\; Favorite 5-Star reviewed author and a multiple recipient of the Literary Classics Seal of Approval. She&#39\;s also the winner of the Gold Book Award for YA Series (2016) for The Gateway Chronicles--her best-selling six-book Fantasy series--the Silver Book Award winner for YA Science Fiction (2015) for BREEDER\, the first book in her Dystopian Trilogy\, The Breeder Cycle\, for which she also won the Bronze Award for YA Science Fiction (2016) from Readers&#39\; Favorite International Book Awards.
LOCATION:North Shelby Library
UID:e.145.9785
SEQUENCE:3
DTSTAMP:20260421T150915Z
URL:https://business.shelbychamber.org/events/details/writing-workshop-with-author-k-b-hoyle-9785
END:VEVENT

END:VCALENDAR
