BEGIN:VCALENDAR
VERSION:2.0
PRODID:-//ChamberMaster//Event Calendar 2.0//EN
METHOD:PUBLISH
X-PUBLISHED-TTL:P3D
REFRESH-INTERVAL:P3D
CALSCALE:GREGORIAN
BEGIN:VEVENT
DTSTART:20130723T123000Z
DTEND:20130723T230000Z
X-MICROSOFT-CDO-ALLDAYEVENT:FALSE
SUMMARY:Y'all Connect blogging / social media conference
DESCRIPTION:Y'all Connect is a blogging and social media conference taking place July 23\, 2013\, in Birmingham\, Ala. The mission is to give you practical takeaways in corporate storytelling.\n\n	 \n\n	Because businesses have more options than ever   not only to market themselves\, but to interact with consumers and fans   they must stand out with their unique stories.\n\n	 \n\n	We'll showcase leading experts in blogging and social media to help you define\, express and share your stories in a 1-day conference.\n\n	 \n\n	Who should attend:\n\n	 \n\n	  CEOs: Whether you oversee 10\,000 employees or just one\, you can lead the charge in defining your digital outreach.\n\n	  Marketing / communications officers: Learn the tips\, tools and takeaways that will help your brand reach maximum visibility and interactivity.\n\n	  Content management professionals: The next wave in marketing isn't limited to sales but includes good\, relevant information in niche areas.\n\n	  Bloggers / social media professionals: Meet your future clients\, employers and colleagues in one place.\n\n	\n\n	What to expect:\n\n	 \n\n	  Learning from the best. The speakers will provide the latest tested ways to use your website\, your social media channels and more to tell your company story to a receptive audience.\n\n	  Practical takeaways. Theoretical is fine and dandy\, but you will leave with ideas you can put to use immediately. What good is a bunch of seminars if you can't help your colleagues\, company and customers succeed?\n\n	  Southern hospitality. Birmingham isn't just a technological leader but also home to a wide array of friendly faces\, superior dining and fun attractions for your visit.
X-ALT-DESC;FMTTYPE=text/html:<div>\n	<strong>Y&rsquo\;all Connect</strong> is a blogging and social media conference taking place July 23\, 2013\, in Birmingham\, Ala. The mission is to give you practical takeaways in corporate storytelling.</div>\n<div>\n	&nbsp\;</div>\n<div>\n	Because businesses have more options than ever &mdash\; not only to market themselves\, but to interact with consumers and fans &mdash\; they must stand out with their unique stories.</div>\n<div>\n	&nbsp\;</div>\n<div>\n	We&rsquo\;ll showcase leading experts in blogging and social media to help you define\, express and share your stories in a 1-day conference.</div>\n<div>\n	&nbsp\;</div>\n<div>\n	Who should attend:</div>\n<div>\n	&nbsp\;</div>\n<div>\n	&bull\; <strong>CEOs:</strong> Whether you oversee 10\,000 employees or just one\, you can lead the charge in defining your digital outreach.</div>\n<div>\n	&bull\;&nbsp\;<strong>Marketing / communications officers:</strong> Learn the tips\, tools and takeaways that will help your brand reach maximum visibility and interactivity.</div>\n<div>\n	&bull\;&nbsp\;<strong>Content management professionals:</strong> The next wave in marketing isn&rsquo\;t limited to sales but includes good\, relevant information in niche areas.</div>\n<div>\n	&bull\;&nbsp\;<strong>Bloggers / social media professionals:</strong> Meet your future clients\, employers and colleagues in one place.</div>\n<div>\n	<br />\n	What to expect:</div>\n<div>\n	&nbsp\;</div>\n<div>\n	&bull\; <strong>Learning from the best.</strong> The speakers will provide the latest tested ways to use your website\, your social media channels and more to tell your company story to a receptive audience.</div>\n<div>\n	&bull\;&nbsp\;<strong>Practical takeaways.</strong> Theoretical is fine and dandy\, but you will leave with ideas you can put to use immediately. What good is a bunch of seminars if you can&rsquo\;t help your colleagues\, company and customers succeed?</div>\n<div>\n	&bull\;&nbsp\;<strong>Southern hospitality.</strong> Birmingham isn&rsquo\;t just a technological leader but also home to a wide array of friendly faces\, superior dining and fun attractions for your visit.</div>\n<div>\n	&nbsp\;</div>\n
LOCATION:BJCC East Meeting Rooms\, Birmingham\, Ala.
UID:e.145.4623
SEQUENCE:3
DTSTAMP:20260424T085754Z
URL:https://business.shelbychamber.org/events/details/y-all-connect-blogging-social-media-conference-07-23-2013-4623
END:VEVENT

END:VCALENDAR
