BEGIN:VCALENDAR
VERSION:2.0
PRODID:-//ChamberMaster//Event Calendar 2.0//EN
METHOD:PUBLISH
X-PUBLISHED-TTL:P3D
REFRESH-INTERVAL:P3D
CALSCALE:GREGORIAN
BEGIN:VEVENT
DTSTART:20140613T130000Z
DTEND:20140614T003000Z
X-MICROSOFT-CDO-ALLDAYEVENT:FALSE
SUMMARY:Y'all Connect Presented by Alabama Power
DESCRIPTION:Y'all Connect Presented by Alabama Power is a blogging and social media conference taking place June 13\, 2014\, in Birmingham\, Ala. The mission is to give you practical takeaways in corporate storytelling.\n\nOur story: The good folks of Birmingham dreamed of a way to show off its talented practitioners of digital storytelling. They knew that theirs was a land of hospitality and warmth. What better way to bring the people together than with a gathering in the Magic City to share ideas and more. The curious came from near and far\, to see what was buzzing down South?\n\nBecause businesses have more options than ever - not only to market themselves\, but to interact with consumers and fans - they must stand out with their unique stories. We'll showcase leading experts in blogging and social media to help you define\, express and share your stories in a 1-day conference.\n\nWho should attend:\n\n\n	CEOs: Whether you oversee 10\,000 employees or just one\, you can lead the charge in defining your digital outreach\n	Marketing / communications officers: Learn the tips\, tools and takeaways that will help your brand reach maximum visibility and interactivity.\n	Content management professionals: The next wave in marketing isn't limited to sales but includes good\, relevant information in niche areas.\n	Bloggers / social media professionals: Meet your future clients\, employers and colleagues in one place.\n\n\nWhat to expect:\n\n\n	Learning from the best. The speakers will provide the latest tested ways to use your website\, your social media channels and more to tell your company story to a receptive audience.\n	Practical takeaways. Theoretical is fine and dandy\, but you will leave with ideas you can put to use immediately. What good is a bunch of seminars if you can't help your colleagues\, company and customers succeed?\n	Southern hospitality. Birmingham isn't just a technological leader but also home to a wide array of friendly faces\, superior dining and fun attractions for your visit.\n\n\nSee who's speaking at Y'all Connect 2014.
X-ALT-DESC;FMTTYPE=text/html:<p style="margin: 5px\; padding: 0px\; font-size: 12px\; line-height: 1.6em\; color: rgb(0\, 0\, 0)\; font-family: Arial\, Helvetica\, sans-serif\;"><strong style="line-height: 1.6em\;"><a href="http://yallconnect.com/" style="text-decoration: none\; color: rgb(145\, 147\, 150)\;"><span style="color:#000000\;">Y&#39\;all Connect Presented by Alabama Power</span></a></strong><span style="line-height: 1.6em\;">&nbsp\;is a blogging and social media conference taking place June 13\, 2014\, in Birmingham\, Ala. The mission is to give you practical takeaways in corporate storytelling.</span></p>\n\n<p style="margin: 5px\; padding: 0px\; font-size: 12px\; line-height: 1.6em\; color: rgb(0\, 0\, 0)\; font-family: Arial\, Helvetica\, sans-serif\;"><i>Our story: The good folks of Birmingham dreamed of a way to show off its talented practitioners of digital storytelling. They knew that theirs was a land of hospitality and warmth. What better way to bring the people together than with a gathering in the Magic City to share ideas and more. The curious came from near and far\, to see what was buzzing down South?</i></p>\n\n<p style="margin: 5px\; padding: 0px\; font-size: 12px\; line-height: 1.6em\; color: rgb(0\, 0\, 0)\; font-family: Arial\, Helvetica\, sans-serif\;">Because businesses have more options than ever - not only to market themselves\, but to interact with consumers and fans - they must stand out with their unique stories. We&#39\;ll showcase leading experts in blogging and social media to help you define\, express and share your stories in a 1-day conference.</p>\n\n<p style="margin: 5px\; padding: 0px\; font-size: 12px\; line-height: 1.6em\; color: rgb(0\, 0\, 0)\; font-family: Arial\, Helvetica\, sans-serif\;">Who should attend:</p>\n\n<ul style="margin: 0px 0px 0px 20px\; padding-right: 0px\; padding-left: 0px\; list-style: none\; font-size: 1.2em\; color: rgb(0\, 0\, 0)\; font-family: Arial\, Helvetica\, sans-serif\; line-height: normal\;">\n	<li style="margin: 0px 0px 20px\; padding: 0px\; list-style: disc\;"><strong>CEOs:</strong>&nbsp\;Whether you oversee 10\,000 employees or just one\, you can lead the charge in defining your digital outreach</li>\n	<li style="margin: 0px 0px 20px\; padding: 0px\; list-style: disc\;"><strong>Marketing / communications officers:</strong>&nbsp\;Learn the tips\, tools and takeaways that will help your brand reach maximum visibility and interactivity.</li>\n	<li style="margin: 0px 0px 20px\; padding: 0px\; list-style: disc\;"><strong>Content management professionals:</strong>&nbsp\;The next wave in marketing isn&#39\;t limited to sales but includes good\, relevant information in niche areas.</li>\n	<li style="margin: 0px 0px 20px\; padding: 0px\; list-style: disc\;"><strong>Bloggers / social media professionals:</strong>&nbsp\;Meet your future clients\, employers and colleagues in one place.</li>\n</ul>\n\n<p style="margin: 5px\; padding: 0px\; font-size: 12px\; line-height: 1.6em\; color: rgb(0\, 0\, 0)\; font-family: Arial\, Helvetica\, sans-serif\;">What to expect:</p>\n\n<ul style="margin: 0px 0px 0px 20px\; padding-right: 0px\; padding-left: 0px\; list-style: none\; font-size: 1.2em\; color: rgb(0\, 0\, 0)\; font-family: Arial\, Helvetica\, sans-serif\; line-height: normal\;">\n	<li style="margin: 0px 0px 20px\; padding: 0px\; list-style: disc\;"><strong>Learning from the best.</strong>&nbsp\;The speakers will provide the latest tested ways to use your website\, your social media channels and more to tell your company story to a receptive audience.</li>\n	<li style="margin: 0px 0px 20px\; padding: 0px\; list-style: disc\;"><strong>Practical takeaways.</strong>&nbsp\;Theoretical is fine and dandy\, but you will leave with ideas you can put to use immediately. What good is a bunch of seminars if you can&#39\;t help your colleagues\, company and customers succeed?</li>\n	<li style="margin: 0px 0px 20px\; padding: 0px\; list-style: disc\;"><strong>Southern hospitality.</strong>&nbsp\;Birmingham isn&#39\;t just a technological leader but also home to a wide array of friendly faces\, superior dining and fun attractions for your visit.</li>\n</ul>\n\n<p style="margin: 5px\; padding: 0px\; font-size: 12px\; line-height: 1.6em\; color: rgb(0\, 0\, 0)\; font-family: Arial\, Helvetica\, sans-serif\;"><a href="http://yallconnect.com/"><strong>See&nbsp\;who&#39\;s speaking at Y&#39\;all Connect 2014.</strong></a></p>\n
LOCATION:The Harbert Center\, 2019 4th Ave. N.\, Birmingham\, AL 35203
UID:e.145.5331
SEQUENCE:3
DTSTAMP:20260423T151357Z
URL:https://business.shelbychamber.org/events/details/y-all-connect-presented-by-alabama-power-06-13-2014-5331
END:VEVENT

END:VCALENDAR
