BEGIN:VCALENDAR
VERSION:2.0
PRODID:-//ChamberMaster//Event Calendar 2.0//EN
METHOD:PUBLISH
X-PUBLISHED-TTL:P3D
REFRESH-INTERVAL:P3D
CALSCALE:GREGORIAN
BEGIN:VEVENT
DTSTART:20130405T200000Z
DTEND:20130405T220000Z
X-MICROSOFT-CDO-ALLDAYEVENT:FALSE
SUMMARY:YMCA Alabster Ribbon Cutting
DESCRIPTION:The YMCA Alabaster is celebrating their new location with a Ribbon Cutting!
X-ALT-DESC;FMTTYPE=text/html:The YMCA Alabaster is celebrating their new location with a Ribbon Cutting! 
LOCATION:117 Plaza Circle Alabaster\, AL 35007
UID:e.145.4556
SEQUENCE:3
DTSTAMP:20260424T134434Z
URL:https://business.shelbychamber.org/events/details/ymca-alabster-ribbon-cutting-04-05-2013-4556
END:VEVENT

END:VCALENDAR
