BEGIN:VCALENDAR
VERSION:2.0
PRODID:-//ChamberMaster//Event Calendar 2.0//EN
METHOD:PUBLISH
X-PUBLISHED-TTL:P3D
REFRESH-INTERVAL:P3D
CALSCALE:GREGORIAN
BEGIN:VEVENT
DTSTART:20130205T220000Z
DTEND:20130206T000000Z
X-MICROSOFT-CDO-ALLDAYEVENT:FALSE
SUMMARY:You are Invited to Celebrate the Ribbon Cutting & Open House at Chara!
DESCRIPTION:You are invited to the Ribbon Cutting & Open House Celebration for Chara in Pelham!\n\n\n\nWe would like to invite everyone to come by Chara and visit the program during our Open House between 4pm and 6pm on Tuesday\, February 5\, 2013.\n\n\n\nThe ribbon cutting will be at 4pm and will be followed by food\, fun\, and fellowship.\n\n\n\nPelham is truly fortunate to have a new program that serves individuals with intellectual disabilities.  Our goal at Chara is to provide specialized social opportunities and interactive leisure activities to enrich the lives of adults with special needs.\n\n\n\n\n\nCome see us at 351 Canyon Park Drive\, Pelham\, AL 35124!
X-ALT-DESC;FMTTYPE=text/html:You are invited to the Ribbon Cutting &amp\; Open House Celebration for <a href="http://charajoy.com/">Chara</a> in Pelham!<br />\n<br />\nWe would like to invite everyone to come by <a href="http://charajoy.com/">Chara</a> and visit the program during our Open House between 4pm and 6pm on Tuesday\, February 5\, 2013.<br />\n<br />\nThe ribbon cutting will be at 4pm and will be followed by food\, fun\, and fellowship.<br />\n<br />\n<a href="http://www.pelhamonline.com/">Pelham</a> is truly fortunate to have a new program that serves individuals with intellectual disabilities.&nbsp\; Our goal at Chara is to provide specialized social opportunities and interactive leisure activities to enrich the lives of adults with special needs.<br />\n<br />\n<br />\nCome see us at 351 Canyon Park Drive\, Pelham\, AL 35124!
LOCATION:351 Canyon Park Drive\, Pelham\, AL 35124
UID:e.145.4448
SEQUENCE:3
DTSTAMP:20260424T172442Z
URL:https://business.shelbychamber.org/events/details/you-are-invited-to-celebrate-the-ribbon-cutting-open-house-at-chara-02-05-2013-4448
END:VEVENT

END:VCALENDAR
