BEGIN:VCALENDAR
VERSION:2.0
PRODID:-//ChamberMaster//Event Calendar 2.0//EN
METHOD:PUBLISH
X-PUBLISHED-TTL:P3D
REFRESH-INTERVAL:P3D
CALSCALE:GREGORIAN
BEGIN:VEVENT
DTSTART:20120802T140000Z
DTEND:20120802T163000Z
X-MICROSOFT-CDO-ALLDAYEVENT:FALSE
SUMMARY:You Can't Take It with You!
DESCRIPTION:You Can't Take It with You!\n\n\n\nAn educational seminar for adult\n\nchildren and their parents on\n\nestate planning\n\nThursday\, August 2\n\n9:00 a.m.-11:30 a.m.\n\nPelham Senior Center\n\n50 Racquet Club Parkway\, Pelham\n\n\n\nEstate Planning Attorney Dr. Robert Tufts will speak on:\n\nThe need for estate planning\n\nWills\, trusts\, probate\n\nLiving wills\n\nThe estate tax and more!\n\n\n\nFree lunch for those who preregister by July 31!\n\n\n\nAlabama Securities Commission will speak on protection from fraud.\n\n\n\nTo pre-register\, call the Pelham Senior Center\n\n205-620-6064\n\n\n\nClick here for a printable PDF flier with all details and sponsors.
X-ALT-DESC;FMTTYPE=text/html:You Can&rsquo\;t Take It with You!<br />\n<br />\nAn educational seminar for adult<br />\nchildren and their parents on<br />\nestate planning<br />\nThursday\, August 2<br />\n9:00 a.m.-11:30 a.m.<br />\nPelham Senior Center<br />\n50 Racquet Club Parkway\, Pelham<br />\n<br />\nEstate Planning Attorney Dr. Robert Tufts will speak on:<br />\nThe need for estate planning<br />\nWills\, trusts\, probate<br />\nLiving wills<br />\nThe estate tax and more!<br />\n<br />\nFree lunch for those who preregister by July 31!<br />\n<br />\nAlabama Securities Commission will speak on protection from fraud.<br />\n<br />\nTo pre-register\, call the Pelham Senior Center<br />\n205-620-6064<br />\n<br />\n<a href="http://cloud.chambermaster.com/userfiles/UserFiles/chambers/145/File/Community%20Events/pelhamflyerseniorcenter.pdf">Click here for a printable PDF flier with all details and sponsors.</a>
LOCATION:Pelham Senior Center 50 Racquet Club Parkway\, Pelham
UID:e.145.4270
SEQUENCE:3
DTSTAMP:20260425T024538Z
URL:https://business.shelbychamber.org/events/details/you-can-t-take-it-with-you-08-02-2012-4270
END:VEVENT

END:VCALENDAR
