BEGIN:VCALENDAR
VERSION:2.0
PRODID:-//ChamberMaster//Event Calendar 2.0//EN
METHOD:PUBLISH
X-PUBLISHED-TTL:P3D
REFRESH-INTERVAL:P3D
CALSCALE:GREGORIAN
BEGIN:VEVENT
DTSTART:20131007T233000Z
DTEND:20131008T010000Z
X-MICROSOFT-CDO-ALLDAYEVENT:FALSE
SUMMARY:You Can't Take it With You! An Estate Planning Seminar
DESCRIPTION:Estate planning attorney\, Dr. Robert Tufts will address problems created when you do not have an estate plan (will)\, followed by a discussion of the three documents you should have in an estate plan--the Advance Directive for Health Care\, the Power of Attorney and your distribution plan. This program is sponsored by a grant from Smart Investing @ Your Library. Registration Required. Dinner provided - call 439-5540 to reserve your spot and order your meal.
X-ALT-DESC;FMTTYPE=text/html:<span style="font-family: 'Times New Roman'\, serif\; font-size: 13px\;">Estate planning attorney\,&nbsp\;</span><span class="il" style="background-color: rgb(255\, 255\, 204)\; font-family: 'Times New Roman'\, serif\; font-size: 13px\;">Dr</span><span style="font-family: 'Times New Roman'\, serif\; font-size: 13px\;">. Robert&nbsp\;</span><span class="il" style="background-color: rgb(255\, 255\, 204)\; font-family: 'Times New Roman'\, serif\; font-size: 13px\;">Tufts</span><span style="font-family: 'Times New Roman'\, serif\; font-size: 13px\;">&nbsp\;will address problems created when you do not have an estate plan (will)\, followed by a discussion of the three documents you should have in an estate plan--the Advance Directive for Health Care\, the Power of Attorney and your distribution plan. This program is sponsored by a grant from Smart Investing @ Your Library. Registration Required. Dinner provided - call 439-5540 to reserve your spot and order your meal.</span>
LOCATION:North Shelby Library Meeting Room
UID:e.145.4747
SEQUENCE:3
DTSTAMP:20260424T033813Z
URL:https://business.shelbychamber.org/events/details/you-can-t-take-it-with-you-an-estate-planning-seminar-10-07-2013-4747
END:VEVENT

END:VCALENDAR
