BEGIN:VCALENDAR
VERSION:2.0
PRODID:-//ChamberMaster//Event Calendar 2.0//EN
METHOD:PUBLISH
X-PUBLISHED-TTL:P3D
REFRESH-INTERVAL:P3D
CALSCALE:GREGORIAN
BEGIN:VEVENT
DTSTART:20131209T170000Z
DTEND:20131209T190000Z
X-MICROSOFT-CDO-ALLDAYEVENT:FALSE
SUMMARY:You're Invited! Alabama Allergy & Asthma Center Ribbon Cutting\, Alabaster
DESCRIPTION:Please join us at Alabama Allergy & Asthma Center in Alabaster for the ribbon cutting ceremony December 9th\, 11am. Our new office is at 1022 1st Street North Tower Building\, Suite 305 in Alabaster. Dr. Argo and our staff are pleased to join the Alabaster community and help serve patients with allergies\, asthma\, and other related needs. Refreshments will be provided.
X-ALT-DESC;FMTTYPE=text/html:Please join us at Alabama Allergy &amp\; Asthma Center in Alabaster for the ribbon cutting ceremony December 9th\, 11am. Our new office is at 1022 1st Street North Tower Building\, Suite 305 in Alabaster. Dr. Argo and our staff are pleased to join the Alabaster community and help serve patients with allergies\, asthma\, and other related needs. Refreshments will be provided. 
LOCATION:1022 1st Street North Tower Building\, Suite 305 in Alabaster
UID:e.145.4953
SEQUENCE:3
DTSTAMP:20260424T003459Z
URL:https://business.shelbychamber.org/events/details/you-re-invited-alabama-allergy-asthma-center-ribbon-cutting-alabaster-12-09-2013-4953
END:VEVENT

END:VCALENDAR
