BEGIN:VCALENDAR
VERSION:2.0
PRODID:-//ChamberMaster//Event Calendar 2.0//EN
METHOD:PUBLISH
X-PUBLISHED-TTL:P3D
REFRESH-INTERVAL:P3D
CALSCALE:GREGORIAN
BEGIN:VEVENT
DTSTART:20131125T220000Z
DTEND:20131125T230000Z
X-MICROSOFT-CDO-ALLDAYEVENT:FALSE
SUMMARY:You're Invited: M&M JEWELERS Ribbon Cutting & Grand Opening
DESCRIPTION:YOU'RE INVITED TO CELEBRATE THE GRAND OPENING & RIBBON CUTTING CELEBRATION FOR OUR NEW LOCATION AT INVERNESS CORNERS NEXT TO WINN DIXIE!
X-ALT-DESC;FMTTYPE=text/html:YOU&#39\;RE INVITED TO CELEBRATE THE GRAND OPENING &amp\; RIBBON CUTTING CELEBRATION FOR OUR NEW LOCATION AT INVERNESS CORNERS NEXT TO WINN DIXIE!
LOCATION:440 INVERNESS CORNERS
UID:e.145.4952
SEQUENCE:3
DTSTAMP:20260424T034052Z
URL:https://business.shelbychamber.org/events/details/you-re-invited-m-m-jewelers-ribbon-cutting-grand-opening-11-25-2013-4952
END:VEVENT

END:VCALENDAR
