BEGIN:VCALENDAR
VERSION:2.0
PRODID:-//ChamberMaster//Event Calendar 2.0//EN
METHOD:PUBLISH
X-PUBLISHED-TTL:P3D
REFRESH-INTERVAL:P3D
CALSCALE:GREGORIAN
BEGIN:VEVENT
DTSTART:20160517T163000Z
DTEND:20160517T220000Z
X-MICROSOFT-CDO-ALLDAYEVENT:FALSE
SUMMARY:You're Invited: Open House at Letslose\, Advanced Weight Loss Clinic @ Pelham
DESCRIPTION:You're Invited: Open House at Letslose\,\n\nAdvanced Weight Loss Clinic @ Pelham\n \n\n \nCome and enjoy tasty\, healthy foods and beverages. We'll have door prizes\, gift basket drawing\, recipes\, information\, and special offers. New patients get $20 off for joining on event day. Letslose patients get double referral when a friend joins our weight loss program on event day.\n\n\n\nMark your calendar and make plans to drop by from 11:30AM until 5:00PM on Tuesday\, May 17. We hope to see you there.
X-ALT-DESC;FMTTYPE=text/html:<div style="text-align: center\;"><br />\n<span style="font-size:12px\;"><span style="font-family: arial\;"><strong>You&#39\;re Invited: Open House at Letslose\,<br />\nAdvanced Weight Loss Clinic @ Pelham</strong></span></span></div>\n<span style="font-size:12px\;"><span style="font-family: arial\;">&nbsp\;</span></span><br />\n&nbsp\;\n<div><span style="font-size:12px\;"><span style="font-family: arial\;">Come and enjoy tasty\, healthy foods and beverages. We&#39\;ll have door prizes\, gift basket drawing\, recipes\, information\, and special offers. New patients get $20 off for joining on event day. Letslose patients get double referral when a friend joins our weight loss program on event day.<br />\n<br />\nMark your calendar and make plans to drop by from 11:30AM until 5:00PM on Tuesday\, May 17. We hope to see you there.</span></span></div>\n
LOCATION:Advanced Weight Loss Clinic @ Pelham 2691 Pelham Parkway\, Ste A Pelham\, AL 35124 (205) 304-0344(205) 304-0344
UID:e.145.9510
SEQUENCE:3
DTSTAMP:20260422T063654Z
URL:https://business.shelbychamber.org/events/details/you-re-invited-open-house-at-letslose-advanced-weight-loss-clinic-pelham-05-17-2016-9510
END:VEVENT

END:VCALENDAR
