BEGIN:VCALENDAR
VERSION:2.0
PRODID:-//ChamberMaster//Event Calendar 2.0//EN
METHOD:PUBLISH
X-PUBLISHED-TTL:P3D
REFRESH-INTERVAL:P3D
CALSCALE:GREGORIAN
BEGIN:VEVENT
DTSTART:20160506T170000Z
DTEND:20160506T180000Z
X-MICROSOFT-CDO-ALLDAYEVENT:FALSE
SUMMARY:You're Invited: Ribbon Cutting Allstate Insurance\, The McGarry Agency
DESCRIPTION:You're Invited to the Official Ribbon Cutting Ceremony for Allstate Insurance\, The McGarry Agency!\n\n\n\nYou are invited to attend the Official Ribbon Cutting Celebration for Allstate Insurance\, The McGarry Agency on Friday\, May 6 at 12:00PM. The agency is located at 7950 Highway 31 Suite B\, Calera\, AL 35040.
X-ALT-DESC;FMTTYPE=text/html:<p><br />\n<strong>You&#39\;re Invited to the Official Ribbon Cutting Ceremony for Allstate Insurance\, The McGarry Agency!</strong><br />\n<br />\nYou are invited to attend the Official Ribbon Cutting Celebration for Allstate Insurance\, The McGarry Agency on Friday\, May 6 at 12:00PM. The agency is located at 7950 Highway 31 Suite B\, Calera\, AL 35040.<br />\n&nbsp\;</p>\n
LOCATION:Allstate Insurance\, The McGarry Agency 7950 Highway 31 Suite B Calear\, AL 35040
UID:e.145.9485
SEQUENCE:3
DTSTAMP:20260422T063822Z
URL:https://business.shelbychamber.org/events/details/you-re-invited-ribbon-cutting-allstate-insurance-the-mcgarry-agency-05-06-2016-9485
END:VEVENT

END:VCALENDAR
