BEGIN:VCALENDAR
VERSION:2.0
PRODID:-//ChamberMaster//Event Calendar 2.0//EN
METHOD:PUBLISH
X-PUBLISHED-TTL:P3D
REFRESH-INTERVAL:P3D
CALSCALE:GREGORIAN
BEGIN:VEVENT
DTSTART:20161104T180000Z
DTEND:20161104T183000Z
X-MICROSOFT-CDO-ALLDAYEVENT:FALSE
SUMMARY:You're Invited: Ribbon Cutting Blake Guy State Farm Insurance
DESCRIPTION:You're Invited to the Official Ribbon Cutting Ceremony for Blake Guy State Farm Insurance!\n\n\n\nYou are invited to attend the Official Ribbon Cutting Celebration for Blake Guy State Farm Insurance on Friday\, November 4 at 1:00PM. The store is located at 2132 - B Pelham Parkway \, Pelham\, AL 35124.
X-ALT-DESC;FMTTYPE=text/html:<p><br />\n<strong>You&#39\;re Invited to the Official Ribbon Cutting Ceremony for Blake Guy State Farm Insurance!</strong><br />\n<br />\nYou are invited to attend the Official Ribbon Cutting Celebration for Blake Guy State Farm Insurance on Friday\, November 4 at 1:00PM. The store is located at 2132 - B Pelham Parkway \, Pelham\, AL 35124.<br />\n&nbsp\;</p>\n
LOCATION:Blake Guy State Farm Insurance 2132 - B Pelham Parkway Pelham\, AL 35124
UID:e.145.9752
SEQUENCE:3
DTSTAMP:20260421T151536Z
URL:https://business.shelbychamber.org/events/details/you-re-invited-ribbon-cutting-blake-guy-state-farm-insurance-9752
END:VEVENT

END:VCALENDAR
