BEGIN:VCALENDAR
VERSION:2.0
PRODID:-//ChamberMaster//Event Calendar 2.0//EN
METHOD:PUBLISH
X-PUBLISHED-TTL:P3D
REFRESH-INTERVAL:P3D
CALSCALE:GREGORIAN
BEGIN:VEVENT
DTSTART:20161014T140000Z
DTEND:20161014T143000Z
X-MICROSOFT-CDO-ALLDAYEVENT:FALSE
SUMMARY:You're Invited: Ribbon Cutting Brittani Morris - State Farm
DESCRIPTION:You're Invited to the Official Ribbon Cutting Ceremony for Brittani Morris - State Farm!\n\n\n\nYou are invited to attend the Official Ribbon Cutting Celebration for Brittani Morris - State Farm on Friday\, October 14 at 9:00AM. The store is located at 100 Colonial Promenade Parkway Suite 600\, Alabaster\, AL 35007.
X-ALT-DESC;FMTTYPE=text/html:<p><br />\n<strong>You&#39\;re Invited to the Official Ribbon Cutting Ceremony for Brittani Morris - State Farm!</strong><br />\n<br />\nYou are invited to attend the Official Ribbon Cutting Celebration for Brittani Morris - State Farm on Friday\, October 14 at 9:00AM. The store is located at 100 Colonial Promenade Parkway Suite 600\, Alabaster\, AL 35007.<br />\n&nbsp\;</p>\n
LOCATION:Brittani Morris - State Farm 100 Colonial Promenade Parkway Suite 600 Alabaster\, AL 35007
UID:e.145.9737
SEQUENCE:3
DTSTAMP:20260421T165256Z
URL:https://business.shelbychamber.org/events/details/you-re-invited-ribbon-cutting-brittani-morris-state-farm-9737
END:VEVENT

END:VCALENDAR
