BEGIN:VCALENDAR
VERSION:2.0
PRODID:-//ChamberMaster//Event Calendar 2.0//EN
METHOD:PUBLISH
X-PUBLISHED-TTL:P3D
REFRESH-INTERVAL:P3D
CALSCALE:GREGORIAN
BEGIN:VEVENT
DTSTART:20161130T173000Z
DTEND:20161130T180000Z
X-MICROSOFT-CDO-ALLDAYEVENT:FALSE
SUMMARY:You're Invited: Ribbon Cutting Calera City Hall
DESCRIPTION:You're Invited to the Official Ribbon Cutting Ceremony for Calera City Hall!\n\n\n\nYou are invited to attend the Official Ribbon Cutting Celebration for the Calera City Hall on Wednesday\, November 30 at 11:00AM. The agency is located at 7901 Highway 31\, Calera\, AL 35040.
X-ALT-DESC;FMTTYPE=text/html:<p><br />\n<strong>You&#39\;re Invited to the Official Ribbon Cutting Ceremony for Calera City Hall!</strong><br />\n<br />\nYou are invited to attend the Official Ribbon Cutting Celebration for the Calera City Hall on Wednesday\, November 30 at 11:00AM. The agency is located at 7901 Highway 31\, Calera\, AL 35040.<br />\n&nbsp\;</p>\n
LOCATION:Calera City Hall 7901 Highway 31 Calear\, AL 35040
UID:e.145.9806
SEQUENCE:3
DTSTAMP:20260421T165346Z
URL:https://business.shelbychamber.org/events/details/you-re-invited-ribbon-cutting-calera-city-hall-9806
END:VEVENT

END:VCALENDAR
