BEGIN:VCALENDAR
VERSION:2.0
PRODID:-//ChamberMaster//Event Calendar 2.0//EN
METHOD:PUBLISH
X-PUBLISHED-TTL:P3D
REFRESH-INTERVAL:P3D
CALSCALE:GREGORIAN
BEGIN:VEVENT
DTSTART:20160526T190000Z
DTEND:20160526T193000Z
X-MICROSOFT-CDO-ALLDAYEVENT:FALSE
SUMMARY:You're Invited: Ribbon Cutting Carrabba's Italian Grill
DESCRIPTION:You're Invited to the Official Ribbon Cutting Ceremony for Carrabba's Italian Grill!\n\n\n\nYou are invited to attend the Official Ribbon Cutting Celebration for Carrabba's Italian Grill on Thursday\, May 26 at 2:00PM. The store is located at 4503 Riverview Parkway\, Birmingham\, AL 35242.
X-ALT-DESC;FMTTYPE=text/html:<p><br />\n<strong>You&#39\;re Invited to the Official Ribbon Cutting Ceremony for Carrabba&#39\;s Italian Grill!</strong><br />\n<br />\nYou are invited to attend the Official Ribbon Cutting Celebration for Carrabba&#39\;s Italian Grill on Thursday\, May 26 at 2:00PM. The store is located at 4503 Riverview Parkway\, Birmingham\, AL 35242.<br />\n&nbsp\;</p>\n
LOCATION:Carrabba's Italian Grill 4503 Riverview Parkway Birmingham\, AL 35242
UID:e.145.9516
SEQUENCE:3
DTSTAMP:20260422T045312Z
URL:https://business.shelbychamber.org/events/details/you-re-invited-ribbon-cutting-carrabba-s-italian-grill-05-26-2016-9516
END:VEVENT

END:VCALENDAR
