BEGIN:VCALENDAR
VERSION:2.0
PRODID:-//ChamberMaster//Event Calendar 2.0//EN
METHOD:PUBLISH
X-PUBLISHED-TTL:P3D
REFRESH-INTERVAL:P3D
CALSCALE:GREGORIAN
BEGIN:VEVENT
DTSTART:20160523T150000Z
DTEND:20160523T153000Z
X-MICROSOFT-CDO-ALLDAYEVENT:FALSE
SUMMARY:You're Invited: Ribbon Cutting Central State Bank
DESCRIPTION:You're Invited to the Official Ribbon Cutting Ceremony for Central State Bank!\n\n\n\nYou are invited to attend the Official Ribbon Cutting Celebration for Central State Bank on Monday\, May 23 at 10:00AM. The branch is located at 9331 Highway 119\, Alabaster\, AL 35007.
X-ALT-DESC;FMTTYPE=text/html:<p><br />\n<strong>You&#39\;re Invited to the Official Ribbon Cutting Ceremony for Central State Bank!</strong><br />\n<br />\nYou are invited to attend the Official Ribbon Cutting Celebration for Central State Bank on Monday\, May 23 at 10:00AM. The branch is located at 9331 Highway 119\, Alabaster\, AL 35007.<br />\n&nbsp\;</p>\n
LOCATION:Central State Bank 9331 Highway 119 Alabaster\, AL 35007
UID:e.145.9519
SEQUENCE:3
DTSTAMP:20260422T063445Z
URL:https://business.shelbychamber.org/events/details/you-re-invited-ribbon-cutting-central-state-bank-05-23-2016-9519
END:VEVENT

END:VCALENDAR
