BEGIN:VCALENDAR
VERSION:2.0
PRODID:-//ChamberMaster//Event Calendar 2.0//EN
METHOD:PUBLISH
X-PUBLISHED-TTL:P3D
REFRESH-INTERVAL:P3D
CALSCALE:GREGORIAN
BEGIN:VEVENT
DTSTART:20161107T173000Z
DTEND:20161107T180000Z
X-MICROSOFT-CDO-ALLDAYEVENT:FALSE
SUMMARY:You're Invited: Ribbon Cutting Crossfit Riverchase
DESCRIPTION:You're Invited to the Official Ribbon Cutting Ceremony for Crossfit Riverchase!\n\n\n\nYou are invited to attend the Official Ribbon Cutting Celebration for Crossfit Riverchase on Monday\, November 7 at 11:30AM. The store is located at 260 Commerce Parkway \, Pelham\, AL 35124.
X-ALT-DESC;FMTTYPE=text/html:<p><br />\n<strong>You&#39\;re Invited to the Official Ribbon Cutting Ceremony for Crossfit Riverchase!</strong><br />\n<br />\nYou are invited to attend the Official Ribbon Cutting Celebration for Crossfit Riverchase on Monday\, November 7 at 11:30AM. The store is located at 260 Commerce Parkway \, Pelham\, AL 35124.<br />\n&nbsp\;</p>\n
LOCATION:Crossfit Riverchase 260 Commerce Parkway Pelham\, AL 35124
UID:e.145.9760
SEQUENCE:3
DTSTAMP:20260421T165256Z
URL:https://business.shelbychamber.org/events/details/you-re-invited-ribbon-cutting-crossfit-riverchase-9760
END:VEVENT

END:VCALENDAR
