BEGIN:VCALENDAR
VERSION:2.0
PRODID:-//ChamberMaster//Event Calendar 2.0//EN
METHOD:PUBLISH
X-PUBLISHED-TTL:P3D
REFRESH-INTERVAL:P3D
CALSCALE:GREGORIAN
BEGIN:VEVENT
DTSTART:20160707T160000Z
DTEND:20160707T170000Z
X-MICROSOFT-CDO-ALLDAYEVENT:FALSE
SUMMARY:You're Invited: Ribbon Cutting Emily's Heirloom Pound Cakes
DESCRIPTION:You're Invited to the Official Ribbon Cutting Ceremony for Emily's Heirloom Pound Cakes!\n\n\n\nYou are invited to attend the Official Ribbon Cutting Celebration for Emily's Heirloom Pound Cakes on Thursday\, July 7 at 11:00AM. The store is located at 3439 Lorna Lane\, Hoover\, AL 35216.
X-ALT-DESC;FMTTYPE=text/html:<p><br />\n<strong>You&#39\;re Invited to the Official Ribbon Cutting Ceremony for Emily&#39\;s Heirloom Pound Cakes!</strong><br />\n<br />\nYou are invited to attend the Official Ribbon Cutting Celebration for Emily&#39\;s Heirloom Pound Cakes on Thursday\, July 7 at 11:00AM. The store is located at 3439 Lorna Lane\, Hoover\, AL 35216.<br />\n&nbsp\;</p>\n
LOCATION:Emily's Heirloom Pound Cakes 3439 Lorna Lane Hoover\, AL 35216
UID:e.145.9529
SEQUENCE:3
DTSTAMP:20260422T013946Z
URL:https://business.shelbychamber.org/events/details/you-re-invited-ribbon-cutting-emily-s-heirloom-pound-cakes-07-07-2016-9529
END:VEVENT

END:VCALENDAR
