BEGIN:VCALENDAR
VERSION:2.0
PRODID:-//ChamberMaster//Event Calendar 2.0//EN
METHOD:PUBLISH
X-PUBLISHED-TTL:P3D
REFRESH-INTERVAL:P3D
CALSCALE:GREGORIAN
BEGIN:VEVENT
DTSTART:20161108T160000Z
DTEND:20161108T170000Z
X-MICROSOFT-CDO-ALLDAYEVENT:FALSE
SUMMARY:You're Invited: Ribbon Cutting Helena Family Pharmacy
DESCRIPTION:You're Invited to the Official Ribbon Cutting Ceremony for Helena Family Pharmacy!\n\n\n\nYou are invited to attend the Official Ribbon Cutting Celebration for Helena Family Pharmacy on Tuesday\, November 8 at 10:00AM. The store is located at 1915 Highway 58\, Helena\, AL 35080.
X-ALT-DESC;FMTTYPE=text/html:<p><br />\n<strong>You&#39\;re Invited to the Official Ribbon Cutting Ceremony for Helena Family Pharmacy!</strong><br />\n<br />\nYou are invited to attend the Official Ribbon Cutting Celebration for Helena Family Pharmacy on Tuesday\, November 8 at 10:00AM. The store is located at 1915 Highway 58\, Helena\, AL 35080.<br />\n&nbsp\;</p>\n
LOCATION:Helena Family Pharmacy 1915 Highway 58 Helena\, AL 35080
UID:e.145.9798
SEQUENCE:3
DTSTAMP:20260421T151812Z
URL:https://business.shelbychamber.org/events/details/you-re-invited-ribbon-cutting-helena-family-pharmacy-9798
END:VEVENT

END:VCALENDAR
