BEGIN:VCALENDAR
VERSION:2.0
PRODID:-//ChamberMaster//Event Calendar 2.0//EN
METHOD:PUBLISH
X-PUBLISHED-TTL:P3D
REFRESH-INTERVAL:P3D
CALSCALE:GREGORIAN
BEGIN:VEVENT
DTSTART:20170330T140000Z
DTEND:20170330T150000Z
X-MICROSOFT-CDO-ALLDAYEVENT:FALSE
SUMMARY:You're Invited: Ribbon Cutting Home Care Assistance
DESCRIPTION:You're Invited to the Official Ribbon Cutting Ceremony for Home Care Assistance! \n\n\n\nYou are invited to attend the Official Ribbon Cutting Celebration for Home Care Assistance on Thursday\, March 30 at 9:00AM. The store is located at 5291 Valleydale Road Suite 123\, Birmingham\, AL 35242.
X-ALT-DESC;FMTTYPE=text/html:<p><br />\n<strong>You&#39\;re Invited to the Official Ribbon Cutting Ceremony for Home Care Assistance! </strong><br />\n<br />\nYou are invited to attend the Official Ribbon Cutting Celebration for Home Care Assistance on Thursday\, March 30 at 9:00AM. The store is located at 5291 Valleydale Road Suite 123\, Birmingham\, AL 35242.</p>\n
LOCATION:Home Care Assistance 5291 Valleydale Road\, Suite 123 Birmingham\, AL 35242
UID:e.145.10514
SEQUENCE:3
DTSTAMP:20260421T104017Z
URL:https://business.shelbychamber.org/events/details/you-re-invited-ribbon-cutting-home-care-assistance-10514
END:VEVENT

END:VCALENDAR
