BEGIN:VCALENDAR
VERSION:2.0
PRODID:-//ChamberMaster//Event Calendar 2.0//EN
METHOD:PUBLISH
X-PUBLISHED-TTL:P3D
REFRESH-INTERVAL:P3D
CALSCALE:GREGORIAN
BEGIN:VEVENT
DTSTART:20160524T170000Z
DTEND:20160524T180000Z
X-MICROSOFT-CDO-ALLDAYEVENT:FALSE
SUMMARY:You're Invited: Ribbon Cutting Hyatt Place Inverness
DESCRIPTION:You're Invited to the Official Ribbon Cutting Ceremony for Hyatt Place Inverness!\n\n\n\nYou are invited to attend the Official Ribbon Cutting Celebration for Hyatt Place Inverness on Tuesday\, May 24 at 12:00PM. The hotel is located at 4686 Highway 280 East\, Birmingham\, AL 35242.
X-ALT-DESC;FMTTYPE=text/html:<p><br />\n<strong>You&#39\;re Invited to the Official Ribbon Cutting Ceremony for Hyatt Place Inverness!</strong><br />\n<br />\nYou are invited to attend the Official Ribbon Cutting Celebration for Hyatt Place Inverness on Tuesday\, May 24 at 12:00PM. The hotel is located at 4686 Highway 280 East\, Birmingham\, AL 35242.</p>\n
LOCATION:Hyatt Place Inverness 4686 Highway 280 East Birmingham\, AL 35242
UID:e.145.9484
SEQUENCE:3
DTSTAMP:20260422T045311Z
URL:https://business.shelbychamber.org/events/details/you-re-invited-ribbon-cutting-hyatt-place-inverness-05-24-2016-9484
END:VEVENT

END:VCALENDAR
