BEGIN:VCALENDAR
VERSION:2.0
PRODID:-//ChamberMaster//Event Calendar 2.0//EN
METHOD:PUBLISH
X-PUBLISHED-TTL:P3D
REFRESH-INTERVAL:P3D
CALSCALE:GREGORIAN
BEGIN:VEVENT
DTSTART:20170211T160000Z
DTEND:20170211T170000Z
X-MICROSOFT-CDO-ALLDAYEVENT:FALSE
SUMMARY:You're Invited: Ribbon Cutting JnS Treasured Creations
DESCRIPTION:You're Invited to the Official Ribbon Cutting Ceremony for JnS Treasured Creations \n\n\n\nYou are invited to attend the Official Ribbon Cutting Celebration for JnS Treasured Creations on Saturday\, February 11 at 10:00AM. The store is located at 116 Squire Drive\, Helena\, AL 35080.
X-ALT-DESC;FMTTYPE=text/html:<p><br />\n<strong>You&#39\;re Invited to the Official Ribbon Cutting Ceremony for JnS Treasured Creations </strong><br />\n<br />\nYou are invited to attend the Official Ribbon Cutting Celebration for JnS Treasured Creations on Saturday\, February 11 at 10:00AM. The store is located at 116 Squire Drive\, Helena\, AL 35080.<br />\n&nbsp\;</p>\n
LOCATION:JnS Treasured Creations 116 Squire Drive Helena\, AL 35080
UID:e.145.10346
SEQUENCE:3
DTSTAMP:20260421T104101Z
URL:https://business.shelbychamber.org/events/details/you-re-invited-ribbon-cutting-jns-treasured-creations-10346
END:VEVENT

END:VCALENDAR
