BEGIN:VCALENDAR
VERSION:2.0
PRODID:-//ChamberMaster//Event Calendar 2.0//EN
METHOD:PUBLISH
X-PUBLISHED-TTL:P3D
REFRESH-INTERVAL:P3D
CALSCALE:GREGORIAN
BEGIN:VEVENT
DTSTART:20170208T160000Z
DTEND:20170208T170000Z
X-MICROSOFT-CDO-ALLDAYEVENT:FALSE
SUMMARY:You're Invited: Ribbon Cutting Joseph Buff Insurance Agency
DESCRIPTION:You're Invited to the Official Ribbon Cutting Ceremony for\n\nJoseph Buff Insurance Agency \n\n \n\nYou are invited to attend the Official Ribbon Cutting Celebration for Joseph Buff Insurance Agency on Wednesday\, February 8 at 10:00AM. The store is located at 109 Foothills Parkway Suite 112\, Chelsea\, AL 35043.
X-ALT-DESC;FMTTYPE=text/html:<p>&nbsp\;</p>\n\n<p style="text-align: center\;"><strong>You&#39\;re Invited to the Official Ribbon Cutting Ceremony for<br />\nJoseph Buff Insurance Agency </strong></p>\n\n<p style="text-align: center\;">&nbsp\;</p>\n\n<p>You are invited to attend the Official Ribbon Cutting Celebration for Joseph Buff Insurance Agency on Wednesday\, February 8 at 10:00AM. The store is located at 109 Foothills Parkway Suite 112\, Chelsea\, AL 35043.</p>\n
LOCATION:Joseph Buff Insurance Agency 112 Foothills Parkway Suite 112 Chelsea\, AL 35043
UID:e.145.10345
SEQUENCE:3
DTSTAMP:20260421T104140Z
URL:https://business.shelbychamber.org/events/details/you-re-invited-ribbon-cutting-joseph-buff-insurance-agency-10345
END:VEVENT

END:VCALENDAR
