BEGIN:VCALENDAR
VERSION:2.0
PRODID:-//ChamberMaster//Event Calendar 2.0//EN
METHOD:PUBLISH
X-PUBLISHED-TTL:P3D
REFRESH-INTERVAL:P3D
CALSCALE:GREGORIAN
BEGIN:VEVENT
DTSTART:20161117T230000Z
DTEND:20161118T000000Z
X-MICROSOFT-CDO-ALLDAYEVENT:FALSE
SUMMARY:You're Invited: Ribbon Cutting Leading Edge Real Estate
DESCRIPTION:You're Invited to the Official Ribbon Cutting Ceremony for Leading Edge Real Estate!\n\n\n\nYou are invited to attend the Official Ribbon Cutting Celebration for Leading Edge Real Estate on Thursday\, November 17 at 5:00PM. The store is located at 105 Owens Parkway Suite B \, Birmingham\,  AL 35244.
X-ALT-DESC;FMTTYPE=text/html:<p><br />\n<strong>You&#39\;re Invited to the Official Ribbon Cutting Ceremony for Leading Edge Real Estate!</strong><br />\n<br />\nYou are invited to attend the Official Ribbon Cutting Celebration for Leading Edge Real Estate on Thursday\, November 17 at 5:00PM. The store is located at 105 Owens Parkway Suite B \, Birmingham\,&nbsp\; AL 35244.<br />\n&nbsp\;</p>\n
LOCATION:Leading Edge Real Estate 105 Owens Parkway\, Suite B Birmingham\, AL 35244
UID:e.145.9803
SEQUENCE:3
DTSTAMP:20260421T151619Z
URL:https://business.shelbychamber.org/events/details/you-re-invited-ribbon-cutting-leading-edge-real-estate-9803
END:VEVENT

END:VCALENDAR
